BEGIN:VCALENDAR
VERSION:2.0
PRODID:-//Baci Winery - ECPv6.15.20//NONSGML v1.0//EN
CALSCALE:GREGORIAN
METHOD:PUBLISH
X-ORIGINAL-URL:https://baciwinery.com
X-WR-CALDESC:Events for Baci Winery
REFRESH-INTERVAL;VALUE=DURATION:PT1H
X-Robots-Tag:noindex
X-PUBLISHED-TTL:PT1H
BEGIN:VTIMEZONE
TZID:America/New_York
BEGIN:DAYLIGHT
TZOFFSETFROM:-0500
TZOFFSETTO:-0400
TZNAME:EDT
DTSTART:20250309T070000
END:DAYLIGHT
BEGIN:STANDARD
TZOFFSETFROM:-0400
TZOFFSETTO:-0500
TZNAME:EST
DTSTART:20251102T060000
END:STANDARD
BEGIN:DAYLIGHT
TZOFFSETFROM:-0500
TZOFFSETTO:-0400
TZNAME:EDT
DTSTART:20260308T070000
END:DAYLIGHT
BEGIN:STANDARD
TZOFFSETFROM:-0400
TZOFFSETTO:-0500
TZNAME:EST
DTSTART:20261101T060000
END:STANDARD
BEGIN:DAYLIGHT
TZOFFSETFROM:-0500
TZOFFSETTO:-0400
TZNAME:EDT
DTSTART:20270314T070000
END:DAYLIGHT
BEGIN:STANDARD
TZOFFSETFROM:-0400
TZOFFSETTO:-0500
TZNAME:EST
DTSTART:20271107T060000
END:STANDARD
END:VTIMEZONE
BEGIN:VEVENT
DTSTART;TZID=America/New_York:20260424T120000
DTEND;TZID=America/New_York:20260424T170000
DTSTAMP:20260420T064149
CREATED:20260310T011413Z
LAST-MODIFIED:20260310T011413Z
UID:6202-1777032000-1777050000@baciwinery.com
SUMMARY:Sparkling Wine Trail
DESCRIPTION:Fridays\, Saturdays & Sundays in April | 12:00 PM – 5:00 PM \nBaci Winery is excited to participate in the April Sparkling Wine Trail. Join us throughout the month on Fridays\, Saturdays\, and Sundays to enjoy a special sparkling wine tasting experience. \nFor $10\, guests will receive two sparkling wine tastings paired with a small plate. At Baci Winery\, we will be featuring our 2024 Sparkling Riesling and Brut Bolle\, served with brie cheese and fruit compote. \nStop by between 12 PM and 5 PM to sip\, sample\, and explore sparkling wines as part of this regional wine trail experience. \nNo reservation required—just stop in and enjoy.
URL:https://baciwinery.com/event/sparkling-wine-trail-10/
CATEGORIES:General,Tasting
ATTACH;FMTTYPE=image/jpeg:https://baciwinery.com/wp-content/uploads/2026/03/Spring-Bubbly-Trail2.jpg
END:VEVENT
BEGIN:VEVENT
DTSTART;TZID=America/New_York:20260424T140000
DTEND;TZID=America/New_York:20260424T170000
DTSTAMP:20260420T064149
CREATED:20240103T030152Z
LAST-MODIFIED:20260320T011602Z
UID:5178-1777039200-1777050000@baciwinery.com
SUMMARY:Valerie Marini
DESCRIPTION:Valerie Marini performs with a lifetime of music and memories. Her personal touch and contagious energy are not to be missed! A professional musician\, singer and songwriter her music expands from Standards to Contemporary Pop\, Broadway to Blues. Every performance is a surprise!
URL:https://baciwinery.com/event/valerie-marini-2/
CATEGORIES:Music
ATTACH;FMTTYPE=image/webp:https://baciwinery.com/wp-content/uploads/2023/11/Valerie-Marini.webp
END:VEVENT
BEGIN:VEVENT
DTSTART;TZID=America/New_York:20260425T120000
DTEND;TZID=America/New_York:20260425T170000
DTSTAMP:20260420T064149
CREATED:20260310T011453Z
LAST-MODIFIED:20260310T011453Z
UID:6204-1777118400-1777136400@baciwinery.com
SUMMARY:Sparkling Wine Trail
DESCRIPTION:Fridays\, Saturdays & Sundays in April | 12:00 PM – 5:00 PM \nBaci Winery is excited to participate in the April Sparkling Wine Trail. Join us throughout the month on Fridays\, Saturdays\, and Sundays to enjoy a special sparkling wine tasting experience. \nFor $10\, guests will receive two sparkling wine tastings paired with a small plate. At Baci Winery\, we will be featuring our 2024 Sparkling Riesling and Brut Bolle\, served with brie cheese and fruit compote. \nStop by between 12 PM and 5 PM to sip\, sample\, and explore sparkling wines as part of this regional wine trail experience. \nNo reservation required—just stop in and enjoy.
URL:https://baciwinery.com/event/sparkling-wine-trail-11/
CATEGORIES:General,Tasting
ATTACH;FMTTYPE=image/jpeg:https://baciwinery.com/wp-content/uploads/2026/03/Spring-Bubbly-Trail2.jpg
END:VEVENT
BEGIN:VEVENT
DTSTART;TZID=America/New_York:20260425T170000
DTEND;TZID=America/New_York:20260425T200000
DTSTAMP:20260420T064149
CREATED:20260320T011836Z
LAST-MODIFIED:20260320T011836Z
UID:6216-1777136400-1777147200@baciwinery.com
SUMMARY:Austin Hamilton
DESCRIPTION:Austin Hamilton is a Northeast Ohio–based singer-songwriter known for his soulful voice\, gravelly rasp\, and deep blues-influenced sound. His acoustic performances go beyond the typical solo set\, as he delivers a full\, engaging experience—playing guitar while incorporating kick drum and tambourine to create a rich\, layered sound. \nBlending elements of folk\, country\, and Americana\, Austin’s music is rooted in storytelling and raw authenticity. Influenced by artists like Tyler Childers\, Zach Bryan\, and Chris Stapleton\, he brings an honest\, down-to-earth energy that resonates with audiences. \nA recognized name in the regional music scene\, Austin has earned accolades including a Cleveland Music Award for Best Folk Band (2024) and a nomination for Best Country Artist. His performances are intimate\, dynamic\, and perfectly suited for a relaxed night of live music.
URL:https://baciwinery.com/event/austin-hamilton-2/
CATEGORIES:Music
ATTACH;FMTTYPE=image/webp:https://baciwinery.com/wp-content/uploads/2025/04/Baci-Winery-Austin-Hamilton.webp
END:VEVENT
BEGIN:VEVENT
DTSTART;TZID=America/New_York:20260426T120000
DTEND;TZID=America/New_York:20260426T170000
DTSTAMP:20260420T064149
CREATED:20260310T011549Z
LAST-MODIFIED:20260310T012025Z
UID:6206-1777204800-1777222800@baciwinery.com
SUMMARY:Sparkling Wine Trail
DESCRIPTION:Fridays\, Saturdays & Sundays in April | 12:00 PM – 5:00 PM \nBaci Winery is excited to participate in the April Sparkling Wine Trail. Join us throughout the month on Fridays\, Saturdays\, and Sundays to enjoy a special sparkling wine tasting experience. \nFor $10\, guests will receive two sparkling wine tastings paired with a small plate. At Baci Winery\, we will be featuring our 2024 Sparkling Riesling and Brut Bolle\, served with brie cheese and fruit compote. \nStop by between 12 PM and 5 PM to sip\, sample\, and explore sparkling wines as part of this regional wine trail experience. \nNo reservation required—just stop in and enjoy.
URL:https://baciwinery.com/event/sparkling-wine-trail-12/
CATEGORIES:General,Tasting
ATTACH;FMTTYPE=image/jpeg:https://baciwinery.com/wp-content/uploads/2026/03/Spring-Bubbly-Trail2.jpg
END:VEVENT
END:VCALENDAR