BEGIN:VCALENDAR
VERSION:2.0
PRODID:-//Baci Winery - ECPv6.15.20//NONSGML v1.0//EN
CALSCALE:GREGORIAN
METHOD:PUBLISH
X-ORIGINAL-URL:https://baciwinery.com
X-WR-CALDESC:Events for Baci Winery
REFRESH-INTERVAL;VALUE=DURATION:PT1H
X-Robots-Tag:noindex
X-PUBLISHED-TTL:PT1H
BEGIN:VTIMEZONE
TZID:America/New_York
BEGIN:DAYLIGHT
TZOFFSETFROM:-0500
TZOFFSETTO:-0400
TZNAME:EDT
DTSTART:20250309T070000
END:DAYLIGHT
BEGIN:STANDARD
TZOFFSETFROM:-0400
TZOFFSETTO:-0500
TZNAME:EST
DTSTART:20251102T060000
END:STANDARD
BEGIN:DAYLIGHT
TZOFFSETFROM:-0500
TZOFFSETTO:-0400
TZNAME:EDT
DTSTART:20260308T070000
END:DAYLIGHT
BEGIN:STANDARD
TZOFFSETFROM:-0400
TZOFFSETTO:-0500
TZNAME:EST
DTSTART:20261101T060000
END:STANDARD
BEGIN:DAYLIGHT
TZOFFSETFROM:-0500
TZOFFSETTO:-0400
TZNAME:EDT
DTSTART:20270314T070000
END:DAYLIGHT
BEGIN:STANDARD
TZOFFSETFROM:-0400
TZOFFSETTO:-0500
TZNAME:EST
DTSTART:20271107T060000
END:STANDARD
END:VTIMEZONE
BEGIN:VEVENT
DTSTART;TZID=America/New_York:20260501T170000
DTEND;TZID=America/New_York:20260501T200000
DTSTAMP:20260420T075736
CREATED:20260322T214743Z
LAST-MODIFIED:20260322T214743Z
UID:6226-1777654800-1777665600@baciwinery.com
SUMMARY:Valerie Marini
DESCRIPTION:Valerie Marini performs with a lifetime of music and memories. Her personal touch and contagious energy are not to be missed! A professional musician\, singer and songwriter her music expands from Standards to Contemporary Pop\, Broadway to Blues. Every performance is a surprise!
URL:https://baciwinery.com/event/valerie-marini-5/
CATEGORIES:Music
ATTACH;FMTTYPE=image/webp:https://baciwinery.com/wp-content/uploads/2023/11/Valerie-Marini.webp
END:VEVENT
BEGIN:VEVENT
DTSTART;TZID=America/New_York:20260508T170000
DTEND;TZID=America/New_York:20260508T200000
DTSTAMP:20260420T075736
CREATED:20240103T030647Z
LAST-MODIFIED:20260322T215910Z
UID:5181-1778259600-1778270400@baciwinery.com
SUMMARY:Ted Riser
DESCRIPTION:TED Riser – Musician | Singer
URL:https://baciwinery.com/event/ted-riser/
CATEGORIES:Music
ATTACH;FMTTYPE=image/jpeg:https://baciwinery.com/wp-content/uploads/2024/01/Ted-Riser-1.jpg
END:VEVENT
BEGIN:VEVENT
DTSTART;TZID=America/New_York:20260509T170000
DTEND;TZID=America/New_York:20260509T200000
DTSTAMP:20260420T075736
CREATED:20250423T210613Z
LAST-MODIFIED:20260322T220101Z
UID:5772-1778346000-1778356800@baciwinery.com
SUMMARY:Justo Saborit
DESCRIPTION:Justo Saborit\, a Cuban-born guitarist\, blends diverse styles with his roots to create vibrant music. His new album Rumbale showcases energetic and heartfelt tracks\, continuing his legacy of captivating performances and artistry. \nJusto Saborit
URL:https://baciwinery.com/event/justo-saborit-12/
CATEGORIES:Music
ATTACH;FMTTYPE=image/jpeg:https://baciwinery.com/wp-content/uploads/2025/04/Justo-Saborit.jpg
END:VEVENT
BEGIN:VEVENT
DTSTART;TZID=America/New_York:20260510T140000
DTEND;TZID=America/New_York:20260510T170000
DTSTAMP:20260420T075736
CREATED:20260322T220204Z
LAST-MODIFIED:20260322T221531Z
UID:6228-1778421600-1778432400@baciwinery.com
SUMMARY:Valerie Marini
DESCRIPTION:Valerie Marini performs with a lifetime of music and memories. Her personal touch and contagious energy are not to be missed! A professional musician\, singer and songwriter her music expands from Standards to Contemporary Pop\, Broadway to Blues. Every performance is a surprise!
URL:https://baciwinery.com/event/valerie-marini-6/
CATEGORIES:Music
ATTACH;FMTTYPE=image/webp:https://baciwinery.com/wp-content/uploads/2023/11/Valerie-Marini.webp
END:VEVENT
BEGIN:VEVENT
DTSTART;TZID=America/New_York:20260515T170000
DTEND;TZID=America/New_York:20260515T200000
DTSTAMP:20260420T075736
CREATED:20230819T230019Z
LAST-MODIFIED:20260322T222331Z
UID:4700-1778864400-1778875200@baciwinery.com
SUMMARY:Nick Costa & Company
DESCRIPTION:
URL:https://baciwinery.com/event/nick-costa-company/
CATEGORIES:Music
ATTACH;FMTTYPE=image/jpeg:https://baciwinery.com/wp-content/uploads/2023/08/Nick-Costa-and-Company.jpg
END:VEVENT
BEGIN:VEVENT
DTSTART;TZID=America/New_York:20260516T170000
DTEND;TZID=America/New_York:20260516T200000
DTSTAMP:20260420T075736
CREATED:20260322T220553Z
LAST-MODIFIED:20260322T220553Z
UID:6230-1778950800-1778961600@baciwinery.com
SUMMARY:Anthony Gregorio
DESCRIPTION:As a solo keyboardist and cover artist\, Anthony “Tone” Gregorio performs an incredibly diverse range of music from country to 90’s rock\, current pop\, RnB\, blues\, 70’s rock\, and 80’s jams
URL:https://baciwinery.com/event/anthony-gregorio/
CATEGORIES:Music
ATTACH;FMTTYPE=image/jpeg:https://baciwinery.com/wp-content/uploads/2026/03/Anthony-Gregario.jpg
END:VEVENT
BEGIN:VEVENT
DTSTART;TZID=America/New_York:20260517T100000
DTEND;TZID=America/New_York:20260517T130000
DTSTAMP:20260420T075736
CREATED:20230614T224655Z
LAST-MODIFIED:20260402T232523Z
UID:4497-1779012000-1779022800@baciwinery.com
SUMMARY:Blues DeVille
DESCRIPTION:Blues DeVille delivers high-energy roots music with a strong swing feel\, blending blues\, country\, and R&B into a sound driven by infectious rhythms and groove.
URL:https://baciwinery.com/event/blues-deville/
CATEGORIES:Music
ATTACH;FMTTYPE=image/jpeg:https://baciwinery.com/wp-content/uploads/2023/06/Blues-DeVille-4226.jpg
END:VEVENT
BEGIN:VEVENT
DTSTART;TZID=America/New_York:20260517T103000
DTEND;TZID=America/New_York:20260517T120000
DTSTAMP:20260420T075736
CREATED:20260418T162423Z
LAST-MODIFIED:20260418T162423Z
UID:6256-1779013800-1779019200@baciwinery.com
SUMMARY:Barre & Bubbles
DESCRIPTION:Daniela\, owner of Barre2Pilates LLC in Mentor\, Ohio is a master instructor of 24 years. Her barre and mat Pilates program is low-impact yet challenging. You will sculpt\, stretch and strengthen in this 50 minute class! All fitness levels welcome. Please bring a mat\, towel and water. \nSunday\, May 17th at 10:45am. REGISTER HERE \nPrice includes an Aperol Sprits\, Limoncello Spritz\, or NA Beverage.
URL:https://baciwinery.com/event/barre-bubbles/
CATEGORIES:General
ATTACH;FMTTYPE=image/jpeg:https://baciwinery.com/wp-content/uploads/2026/04/Barre-and-Bubbles.jpg
END:VEVENT
BEGIN:VEVENT
DTSTART;TZID=America/New_York:20260522T170000
DTEND;TZID=America/New_York:20260522T200000
DTSTAMP:20260420T075736
CREATED:20250423T213807Z
LAST-MODIFIED:20260322T220936Z
UID:5781-1779469200-1779480000@baciwinery.com
SUMMARY:Maria Petti
DESCRIPTION:Maria Petti\, a Northeast Ohio native\, captivates audiences with her acoustic performances\, blending original songs and diverse genres into unforgettable live shows. \n  \nMaria Petti
URL:https://baciwinery.com/event/maria-petti-4/
CATEGORIES:Music
ATTACH;FMTTYPE=image/jpeg:https://baciwinery.com/wp-content/uploads/2025/04/Maria-Petti.jpg
END:VEVENT
BEGIN:VEVENT
DTSTART;TZID=America/New_York:20260524T130000
DTEND;TZID=America/New_York:20260524T160000
DTSTAMP:20260420T075736
CREATED:20250815T031503Z
LAST-MODIFIED:20260322T221149Z
UID:5965-1779627600-1779638400@baciwinery.com
SUMMARY:Ronnie Clinton
DESCRIPTION:From cozy wine bars to packed patios\, Ronnie Clinton brings smooth vocals and timeless grooves to every stage he touches. Whether he’s serenading with classic hits or spinning fresh takes on fan favorites\, Ronnie’s live shows are a masterclass in feel-good energy and musical finesse. Catch him across Northeast Ohio and experience the voice that keeps Cleveland singing! \nFacebook \nRonnie Clinton
URL:https://baciwinery.com/event/ronnie-clinton-3/
CATEGORIES:Music
ATTACH;FMTTYPE=image/jpeg:https://baciwinery.com/wp-content/uploads/2023/05/Ronnie-Clinton.jpg
END:VEVENT
BEGIN:VEVENT
DTSTART;TZID=America/New_York:20260530T170000
DTEND;TZID=America/New_York:20260530T200000
DTSTAMP:20260420T075736
CREATED:20260322T223755Z
LAST-MODIFIED:20260405T230416Z
UID:6237-1780160400-1780171200@baciwinery.com
SUMMARY:Hickory Rockers
DESCRIPTION:The Hickory Rockers are an Americana roots rock quartet based in Geauga County. Their upbeat\, good time music rocks back and forth between rockabilly\, old school rock-n-roll\, vintage honky tonk country\, folk and a little bit o’ soul. Their sets also include well-crafted originals as well as spirited renditions of musical gems in the aforementioned genres.
URL:https://baciwinery.com/event/hickory-rockers/
CATEGORIES:Music
ATTACH;FMTTYPE=image/jpeg:https://baciwinery.com/wp-content/uploads/2026/03/Hickory-Rockers-4526.jpg
END:VEVENT
BEGIN:VEVENT
DTSTART;TZID=America/New_York:20260531T130000
DTEND;TZID=America/New_York:20260531T160000
DTSTAMP:20260420T075736
CREATED:20250126T142731Z
LAST-MODIFIED:20260322T223308Z
UID:5637-1780232400-1780243200@baciwinery.com
SUMMARY:Al Bucco
DESCRIPTION:Albert Bucco is a versatile singer and entertainer based in Willoughby\, Ohio.
URL:https://baciwinery.com/event/al-bucco/
CATEGORIES:Music
ATTACH;FMTTYPE=image/webp:https://baciwinery.com/wp-content/uploads/2025/01/Al-Bucco.webp
END:VEVENT
END:VCALENDAR