BEGIN:VCALENDAR
VERSION:2.0
PRODID:-//Baci Winery - ECPv6.15.20//NONSGML v1.0//EN
CALSCALE:GREGORIAN
METHOD:PUBLISH
X-WR-CALNAME:Baci Winery
X-ORIGINAL-URL:https://baciwinery.com
X-WR-CALDESC:Events for Baci Winery
REFRESH-INTERVAL;VALUE=DURATION:PT1H
X-Robots-Tag:noindex
X-PUBLISHED-TTL:PT1H
BEGIN:VTIMEZONE
TZID:America/New_York
BEGIN:DAYLIGHT
TZOFFSETFROM:-0500
TZOFFSETTO:-0400
TZNAME:EDT
DTSTART:20250309T070000
END:DAYLIGHT
BEGIN:STANDARD
TZOFFSETFROM:-0400
TZOFFSETTO:-0500
TZNAME:EST
DTSTART:20251102T060000
END:STANDARD
BEGIN:DAYLIGHT
TZOFFSETFROM:-0500
TZOFFSETTO:-0400
TZNAME:EDT
DTSTART:20260308T070000
END:DAYLIGHT
BEGIN:STANDARD
TZOFFSETFROM:-0400
TZOFFSETTO:-0500
TZNAME:EST
DTSTART:20261101T060000
END:STANDARD
BEGIN:DAYLIGHT
TZOFFSETFROM:-0500
TZOFFSETTO:-0400
TZNAME:EDT
DTSTART:20270314T070000
END:DAYLIGHT
BEGIN:STANDARD
TZOFFSETFROM:-0400
TZOFFSETTO:-0500
TZNAME:EST
DTSTART:20271107T060000
END:STANDARD
END:VTIMEZONE
BEGIN:VEVENT
DTSTART;TZID=America/New_York:20260206T170000
DTEND;TZID=America/New_York:20260206T200000
DTSTAMP:20260420T091608
CREATED:20250826T011145Z
LAST-MODIFIED:20260102T173916Z
UID:5996-1770397200-1770408000@baciwinery.com
SUMMARY:Heaven's Rebel
DESCRIPTION:Heaven’s Rebel: Acoustic Guitar/Vocal duo- playing classic favorite cover songs from 60’s-present.
URL:https://baciwinery.com/event/heavens-rebel-3/
CATEGORIES:Music
ATTACH;FMTTYPE=image/jpeg:https://baciwinery.com/wp-content/uploads/2024/03/Heavens-Rebel-1.jpg
END:VEVENT
BEGIN:VEVENT
DTSTART;TZID=America/New_York:20260207T133000
DTEND;TZID=America/New_York:20260207T141500
DTSTAMP:20260420T091608
CREATED:20251114T002536Z
LAST-MODIFIED:20251114T002844Z
UID:6115-1770471000-1770473700@baciwinery.com
SUMMARY:Tour & Tasting
DESCRIPTION:Get a behind-the-scenes look at winemaking with Baci Winery. The tour\, led by winemaker Lauren Fiala\, will showcase several wines in the tasting. Must be 21+. Limited quantity. Tickets available online. \nDates and times available: \n\nFebruary 7th\nFebruary 21th\n\nClick HERE to purchase tickets
URL:https://baciwinery.com/event/tour-tasting-2/
CATEGORIES:Tasting
ATTACH;FMTTYPE=image/jpeg:https://baciwinery.com/wp-content/uploads/2025/11/Baci-Tour-and-Tasting-111325B.jpg
END:VEVENT
BEGIN:VEVENT
DTSTART;TZID=America/New_York:20260220T170000
DTEND;TZID=America/New_York:20260220T200000
DTSTAMP:20260420T091608
CREATED:20250826T013709Z
LAST-MODIFIED:20260102T174948Z
UID:6007-1771606800-1771617600@baciwinery.com
SUMMARY:The Summit feat. Al Bucco & Michael George
DESCRIPTION:Facebook
URL:https://baciwinery.com/event/the-summit-feat-al-bucco-michael-george/
CATEGORIES:Music
ATTACH;FMTTYPE=image/jpeg:https://baciwinery.com/wp-content/uploads/2024/04/The-Summit2.jpg
END:VEVENT
BEGIN:VEVENT
DTSTART;TZID=America/New_York:20260220T180000
DTEND;TZID=America/New_York:20260220T200000
DTSTAMP:20260420T091608
CREATED:20240212T170053Z
LAST-MODIFIED:20251114T004608Z
UID:5232-1771610400-1771617600@baciwinery.com
SUMMARY:Chardonnay Experience
DESCRIPTION:Immerse yourself in the world of Chardonnay. Join winemaker Lauren Fiala on a guided vertical tasting of St. Joseph vineyard and Baci Winery estate-grown Chardonnay. Through a range of years\, Lauren will emphasize the variations from one bottle to the next and discuss how the growing seasons and cellar choices can differentiate vintages. Includes heavy hors d’ouevres\, wine tastings\, wine notes\, and the opportunity to purchase an array of Chardonnay wines from our vault at the conclusion of our event. $40 per person. 21+. \nClick HERE to purchase tickets.
URL:https://baciwinery.com/event/chardonnay-vertical-tasting/
CATEGORIES:Tasting
ATTACH;FMTTYPE=image/jpeg:https://baciwinery.com/wp-content/uploads/2024/02/Chardonnay-Experience.jpg
END:VEVENT
BEGIN:VEVENT
DTSTART;TZID=America/New_York:20260221T133000
DTEND;TZID=America/New_York:20260221T141500
DTSTAMP:20260420T091608
CREATED:20251114T002650Z
LAST-MODIFIED:20251114T002837Z
UID:6117-1771680600-1771683300@baciwinery.com
SUMMARY:Tour & Tasting
DESCRIPTION:Get a behind-the-scenes look at winemaking with Baci Winery. The tour\, led by winemaker Lauren Fiala\, will showcase several wines in the tasting. Must be 21+. Limited quantity. Tickets available online. \nDates and times available: \n\nFebruary 21th\n\nClick HERE to purchase tickets
URL:https://baciwinery.com/event/tour-tasting-3/
CATEGORIES:Tasting
ATTACH;FMTTYPE=image/jpeg:https://baciwinery.com/wp-content/uploads/2025/11/Baci-Tour-and-Tasting-111325B.jpg
END:VEVENT
BEGIN:VEVENT
DTSTART;TZID=America/New_York:20260221T170000
DTEND;TZID=America/New_York:20260221T200000
DTSTAMP:20260420T091608
CREATED:20250424T035235Z
LAST-MODIFIED:20260102T175039Z
UID:5828-1771693200-1771704000@baciwinery.com
SUMMARY:Justo Saborit
DESCRIPTION:Justo Saborit\, a Cuban-born guitarist\, blends diverse styles with his roots to create vibrant music. His new album Rumbale showcases energetic and heartfelt tracks\, continuing his legacy of captivating performances and artistry. \nJusto Saborit
URL:https://baciwinery.com/event/justo-saborit-14/
CATEGORIES:Music
ATTACH;FMTTYPE=image/jpeg:https://baciwinery.com/wp-content/uploads/2025/04/Justo-Saborit.jpg
END:VEVENT
BEGIN:VEVENT
DTSTART;TZID=America/New_York:20260228T170000
DTEND;TZID=America/New_York:20260228T200000
DTSTAMP:20260420T091608
CREATED:20250909T233417Z
LAST-MODIFIED:20260102T175240Z
UID:6032-1772298000-1772308800@baciwinery.com
SUMMARY:Relic Road Acoustic Show
DESCRIPTION:Relic Road delivers acoustic renditions of classics and modern hits\, blending nostalgia with fresh energy. \nJoin us at Baci Winery to enjoy an evening of live music\, good vibes\, and familiar songs reimagined.
URL:https://baciwinery.com/event/relic-road-acoustic-show/
ATTACH;FMTTYPE=image/jpeg:https://baciwinery.com/wp-content/uploads/2025/09/Relic-Road-Acoustic-Show.jpg
END:VEVENT
END:VCALENDAR