BEGIN:VCALENDAR
VERSION:2.0
PRODID:-//Baci Winery - ECPv6.15.20//NONSGML v1.0//EN
CALSCALE:GREGORIAN
METHOD:PUBLISH
X-WR-CALNAME:Baci Winery
X-ORIGINAL-URL:https://baciwinery.com
X-WR-CALDESC:Events for Baci Winery
REFRESH-INTERVAL;VALUE=DURATION:PT1H
X-Robots-Tag:noindex
X-PUBLISHED-TTL:PT1H
BEGIN:VTIMEZONE
TZID:America/New_York
BEGIN:DAYLIGHT
TZOFFSETFROM:-0500
TZOFFSETTO:-0400
TZNAME:EDT
DTSTART:20220313T070000
END:DAYLIGHT
BEGIN:STANDARD
TZOFFSETFROM:-0400
TZOFFSETTO:-0500
TZNAME:EST
DTSTART:20221106T060000
END:STANDARD
BEGIN:DAYLIGHT
TZOFFSETFROM:-0500
TZOFFSETTO:-0400
TZNAME:EDT
DTSTART:20230312T070000
END:DAYLIGHT
BEGIN:STANDARD
TZOFFSETFROM:-0400
TZOFFSETTO:-0500
TZNAME:EST
DTSTART:20231105T060000
END:STANDARD
BEGIN:DAYLIGHT
TZOFFSETFROM:-0500
TZOFFSETTO:-0400
TZNAME:EDT
DTSTART:20240310T070000
END:DAYLIGHT
BEGIN:STANDARD
TZOFFSETFROM:-0400
TZOFFSETTO:-0500
TZNAME:EST
DTSTART:20241103T060000
END:STANDARD
END:VTIMEZONE
BEGIN:VEVENT
DTSTART;TZID=America/New_York:20230701T140000
DTEND;TZID=America/New_York:20230701T170000
DTSTAMP:20260422T055904
CREATED:20230614T225349Z
LAST-MODIFIED:20230614T225349Z
UID:4505-1688220000-1688230800@baciwinery.com
SUMMARY:Stan Miller
DESCRIPTION:
URL:https://baciwinery.com/event/stan-miller-2/
CATEGORIES:Music
ATTACH;FMTTYPE=image/jpeg:https://baciwinery.com/wp-content/uploads/2023/06/Stan-Miller.jpg
END:VEVENT
BEGIN:VEVENT
DTSTART;TZID=America/New_York:20230709T100000
DTEND;TZID=America/New_York:20230709T140000
DTSTAMP:20260422T055904
CREATED:20230614T231434Z
LAST-MODIFIED:20230614T231434Z
UID:4526-1688896800-1688911200@baciwinery.com
SUMMARY:Surfside Band
DESCRIPTION:
URL:https://baciwinery.com/event/surfside-band-2/
CATEGORIES:Music
ATTACH;FMTTYPE=image/jpeg:https://baciwinery.com/wp-content/uploads/2023/06/Surfside-Band.jpg
END:VEVENT
BEGIN:VEVENT
DTSTART;TZID=America/New_York:20230714T140000
DTEND;TZID=America/New_York:20230714T170000
DTSTAMP:20260422T055904
CREATED:20230711T203205Z
LAST-MODIFIED:20230711T203205Z
UID:4549-1689343200-1689354000@baciwinery.com
SUMMARY:Justo Saborit
DESCRIPTION:
URL:https://baciwinery.com/event/justo-saborit/
CATEGORIES:Music
ATTACH;FMTTYPE=image/jpeg:https://baciwinery.com/wp-content/uploads/2023/05/Baci-Winery-Justo-Saborit.jpg
END:VEVENT
BEGIN:VEVENT
DTSTART;TZID=America/New_York:20230716T100000
DTEND;TZID=America/New_York:20230716T140000
DTSTAMP:20260422T055904
CREATED:20230614T231519Z
LAST-MODIFIED:20230614T231519Z
UID:4528-1689501600-1689516000@baciwinery.com
SUMMARY:Surfside Band
DESCRIPTION:
URL:https://baciwinery.com/event/surfside-band-3/
CATEGORIES:Music
ATTACH;FMTTYPE=image/jpeg:https://baciwinery.com/wp-content/uploads/2023/06/Surfside-Band.jpg
END:VEVENT
BEGIN:VEVENT
DTSTART;TZID=America/New_York:20230722T130000
DTEND;TZID=America/New_York:20230722T160000
DTSTAMP:20260422T055904
CREATED:20230717T055447Z
LAST-MODIFIED:20230721T192605Z
UID:4553-1690030800-1690041600@baciwinery.com
SUMMARY:Phil Turk
DESCRIPTION:  \nhttps://www.philturk.com \n 
URL:https://baciwinery.com/event/phil-turk/
ATTACH;FMTTYPE=image/jpeg:https://baciwinery.com/wp-content/uploads/2023/07/PhilTurk.jpg
END:VEVENT
BEGIN:VEVENT
DTSTART;TZID=America/New_York:20230730T090000
DTEND;TZID=America/New_York:20230730T120000
DTSTAMP:20260422T055904
CREATED:20230614T225436Z
LAST-MODIFIED:20230614T225436Z
UID:4507-1690707600-1690718400@baciwinery.com
SUMMARY:Stan Miller
DESCRIPTION:
URL:https://baciwinery.com/event/stan-miller-3/
CATEGORIES:Music
ATTACH;FMTTYPE=image/jpeg:https://baciwinery.com/wp-content/uploads/2023/06/Stan-Miller.jpg
END:VEVENT
END:VCALENDAR