BEGIN:VCALENDAR
VERSION:2.0
PRODID:-//Baci Winery - ECPv6.15.20//NONSGML v1.0//EN
CALSCALE:GREGORIAN
METHOD:PUBLISH
X-WR-CALNAME:Baci Winery
X-ORIGINAL-URL:https://baciwinery.com
X-WR-CALDESC:Events for Baci Winery
REFRESH-INTERVAL;VALUE=DURATION:PT1H
X-Robots-Tag:noindex
X-PUBLISHED-TTL:PT1H
BEGIN:VTIMEZONE
TZID:America/New_York
BEGIN:DAYLIGHT
TZOFFSETFROM:-0500
TZOFFSETTO:-0400
TZNAME:EDT
DTSTART:20250309T070000
END:DAYLIGHT
BEGIN:STANDARD
TZOFFSETFROM:-0400
TZOFFSETTO:-0500
TZNAME:EST
DTSTART:20251102T060000
END:STANDARD
BEGIN:DAYLIGHT
TZOFFSETFROM:-0500
TZOFFSETTO:-0400
TZNAME:EDT
DTSTART:20260308T070000
END:DAYLIGHT
BEGIN:STANDARD
TZOFFSETFROM:-0400
TZOFFSETTO:-0500
TZNAME:EST
DTSTART:20261101T060000
END:STANDARD
BEGIN:DAYLIGHT
TZOFFSETFROM:-0500
TZOFFSETTO:-0400
TZNAME:EDT
DTSTART:20270314T070000
END:DAYLIGHT
BEGIN:STANDARD
TZOFFSETFROM:-0400
TZOFFSETTO:-0500
TZNAME:EST
DTSTART:20271107T060000
END:STANDARD
END:VTIMEZONE
BEGIN:VEVENT
DTSTART;TZID=America/New_York:20260517T103000
DTEND;TZID=America/New_York:20260517T120000
DTSTAMP:20260420T105612
CREATED:20260418T162423Z
LAST-MODIFIED:20260418T162423Z
UID:6256-1779013800-1779019200@baciwinery.com
SUMMARY:Barre & Bubbles
DESCRIPTION:Daniela\, owner of Barre2Pilates LLC in Mentor\, Ohio is a master instructor of 24 years. Her barre and mat Pilates program is low-impact yet challenging. You will sculpt\, stretch and strengthen in this 50 minute class! All fitness levels welcome. Please bring a mat\, towel and water. \nSunday\, May 17th at 10:45am. REGISTER HERE \nPrice includes an Aperol Sprits\, Limoncello Spritz\, or NA Beverage.
URL:https://baciwinery.com/event/barre-bubbles/
CATEGORIES:General
ATTACH;FMTTYPE=image/jpeg:https://baciwinery.com/wp-content/uploads/2026/04/Barre-and-Bubbles.jpg
END:VEVENT
BEGIN:VEVENT
DTSTART;TZID=America/New_York:20260522T170000
DTEND;TZID=America/New_York:20260522T200000
DTSTAMP:20260420T105612
CREATED:20250423T213807Z
LAST-MODIFIED:20260322T220936Z
UID:5781-1779469200-1779480000@baciwinery.com
SUMMARY:Maria Petti
DESCRIPTION:Maria Petti\, a Northeast Ohio native\, captivates audiences with her acoustic performances\, blending original songs and diverse genres into unforgettable live shows. \n  \nMaria Petti
URL:https://baciwinery.com/event/maria-petti-4/
CATEGORIES:Music
ATTACH;FMTTYPE=image/jpeg:https://baciwinery.com/wp-content/uploads/2025/04/Maria-Petti.jpg
END:VEVENT
BEGIN:VEVENT
DTSTART;TZID=America/New_York:20260524T130000
DTEND;TZID=America/New_York:20260524T160000
DTSTAMP:20260420T105612
CREATED:20250815T031503Z
LAST-MODIFIED:20260322T221149Z
UID:5965-1779627600-1779638400@baciwinery.com
SUMMARY:Ronnie Clinton
DESCRIPTION:From cozy wine bars to packed patios\, Ronnie Clinton brings smooth vocals and timeless grooves to every stage he touches. Whether he’s serenading with classic hits or spinning fresh takes on fan favorites\, Ronnie’s live shows are a masterclass in feel-good energy and musical finesse. Catch him across Northeast Ohio and experience the voice that keeps Cleveland singing! \nFacebook \nRonnie Clinton
URL:https://baciwinery.com/event/ronnie-clinton-3/
CATEGORIES:Music
ATTACH;FMTTYPE=image/jpeg:https://baciwinery.com/wp-content/uploads/2023/05/Ronnie-Clinton.jpg
END:VEVENT
BEGIN:VEVENT
DTSTART;TZID=America/New_York:20260530T170000
DTEND;TZID=America/New_York:20260530T200000
DTSTAMP:20260420T105612
CREATED:20260322T223755Z
LAST-MODIFIED:20260405T230416Z
UID:6237-1780160400-1780171200@baciwinery.com
SUMMARY:Hickory Rockers
DESCRIPTION:The Hickory Rockers are an Americana roots rock quartet based in Geauga County. Their upbeat\, good time music rocks back and forth between rockabilly\, old school rock-n-roll\, vintage honky tonk country\, folk and a little bit o’ soul. Their sets also include well-crafted originals as well as spirited renditions of musical gems in the aforementioned genres.
URL:https://baciwinery.com/event/hickory-rockers/
CATEGORIES:Music
ATTACH;FMTTYPE=image/jpeg:https://baciwinery.com/wp-content/uploads/2026/03/Hickory-Rockers-4526.jpg
END:VEVENT
BEGIN:VEVENT
DTSTART;TZID=America/New_York:20260531T130000
DTEND;TZID=America/New_York:20260531T160000
DTSTAMP:20260420T105612
CREATED:20250126T142731Z
LAST-MODIFIED:20260322T223308Z
UID:5637-1780232400-1780243200@baciwinery.com
SUMMARY:Al Bucco
DESCRIPTION:Albert Bucco is a versatile singer and entertainer based in Willoughby\, Ohio.
URL:https://baciwinery.com/event/al-bucco/
CATEGORIES:Music
ATTACH;FMTTYPE=image/webp:https://baciwinery.com/wp-content/uploads/2025/01/Al-Bucco.webp
END:VEVENT
BEGIN:VEVENT
DTSTART;TZID=America/New_York:20260605T170000
DTEND;TZID=America/New_York:20260605T200000
DTSTAMP:20260420T105612
CREATED:20260322T212036Z
LAST-MODIFIED:20260402T235835Z
UID:6219-1780678800-1780689600@baciwinery.com
SUMMARY:Sammi Butler
DESCRIPTION:Ohio-born musician\, Sammi Butler\, specializes in Americana music with a hint of alt country. Sammi’s music captivates listeners with her emotional lyrics and deep melodies and has a distinctive fusion of classic country sounds and current elements.
URL:https://baciwinery.com/event/sammi-butler/
CATEGORIES:Music
ATTACH;FMTTYPE=image/jpeg:https://baciwinery.com/wp-content/uploads/2026/03/Sammi-Butler3.jpg
END:VEVENT
BEGIN:VEVENT
DTSTART;TZID=America/New_York:20260606T170000
DTEND;TZID=America/New_York:20260606T200000
DTSTAMP:20260420T105612
CREATED:20230922T173527Z
LAST-MODIFIED:20260322T221730Z
UID:4876-1780765200-1780776000@baciwinery.com
SUMMARY:Nick Costa and Company
DESCRIPTION:
URL:https://baciwinery.com/event/nick-costa/
CATEGORIES:Music
ATTACH;FMTTYPE=image/jpeg:https://baciwinery.com/wp-content/uploads/2023/08/Nick-Costa-and-Company.jpg
END:VEVENT
BEGIN:VEVENT
DTSTART;TZID=America/New_York:20260612T170000
DTEND;TZID=America/New_York:20260612T200000
DTSTAMP:20260420T105612
CREATED:20250424T033724Z
LAST-MODIFIED:20260322T221829Z
UID:5822-1781283600-1781294400@baciwinery.com
SUMMARY:Miles Beyond
DESCRIPTION:Miles Beyond Band is a talented group of musicians based in Northeastern Ohio\, specializing in Classic Rock\, Blues\, Motown\, and original music. With a strong local presence\, they bring energy and passion to every performance\, captivating audiences with their dynamic sound. Whether playing at live venues or engaging with fans online\, Miles Beyond Band is dedicated to delivering unforgettable musical experiences. \nYou can check out their official Facebook page here to stay updated on their latest shows and events.
URL:https://baciwinery.com/event/miles-beyond-3/
CATEGORIES:Music
ATTACH;FMTTYPE=image/jpeg:https://baciwinery.com/wp-content/uploads/2025/04/Miles-Beyond.jpg
END:VEVENT
BEGIN:VEVENT
DTSTART;TZID=America/New_York:20260613T170000
DTEND;TZID=America/New_York:20260613T200000
DTSTAMP:20260420T105612
CREATED:20250424T030832Z
LAST-MODIFIED:20260322T221930Z
UID:5805-1781370000-1781380800@baciwinery.com
SUMMARY:Ricky & The Rockets
DESCRIPTION:Ricky & The Rockets\, a Northeast Ohio band\, features five seasoned musicians with over 35 years of experience. Known for their tight harmonies and extensive song library of Classic Rock\, British Rock\, Motown\, and Soul\, they deliver top-quality live entertainment guaranteed to “rock the house.” \n  \nRicky & The Rockets
URL:https://baciwinery.com/event/ricky-the-rockets/
CATEGORIES:Music
ATTACH;FMTTYPE=image/jpeg:https://baciwinery.com/wp-content/uploads/2025/04/Ricky-and-the-Rockets-Band-Photo.jpg
END:VEVENT
BEGIN:VEVENT
DTSTART;TZID=America/New_York:20260614T140000
DTEND;TZID=America/New_York:20260614T170000
DTSTAMP:20260420T105612
CREATED:20240103T030026Z
LAST-MODIFIED:20260322T223130Z
UID:5176-1781445600-1781456400@baciwinery.com
SUMMARY:Ronnie Clinton
DESCRIPTION:From cozy wine bars to packed patios\, Ronnie Clinton brings smooth vocals and timeless grooves to every stage he touches. Whether he’s serenading with classic hits or spinning fresh takes on fan favorites\, Ronnie’s live shows are a masterclass in feel-good energy and musical finesse. Catch him across Northeast Ohio and experience the voice that keeps Cleveland singing! \nFacebook \nRonnie Clinton
URL:https://baciwinery.com/event/ronnie-clinton-2/
CATEGORIES:Music
ATTACH;FMTTYPE=image/jpeg:https://baciwinery.com/wp-content/uploads/2023/05/Ronnie-Clinton.jpg
END:VEVENT
BEGIN:VEVENT
DTSTART;TZID=America/New_York:20260619T170000
DTEND;TZID=America/New_York:20260619T200000
DTSTAMP:20260420T105612
CREATED:20260322T222530Z
LAST-MODIFIED:20260322T222530Z
UID:6235-1781888400-1781899200@baciwinery.com
SUMMARY:Ted Riser
DESCRIPTION:Ted Riser\, an Ohio-based musician\, blends Southern rock\, country\, and blues into high-energy performances\, captivating audiences with his unique sound and dynamic stage presence. \n  \nTED Riser – Musician | Singer
URL:https://baciwinery.com/event/ted-riser-4/
CATEGORIES:Music
ATTACH;FMTTYPE=image/jpeg:https://baciwinery.com/wp-content/uploads/2024/01/Ted-Riser-1.jpg
END:VEVENT
BEGIN:VEVENT
DTSTART;TZID=America/New_York:20260620T170000
DTEND;TZID=America/New_York:20260620T200000
DTSTAMP:20260420T105612
CREATED:20260402T232758Z
LAST-MODIFIED:20260402T233707Z
UID:6243-1781974800-1781985600@baciwinery.com
SUMMARY:Mix of Six Band
DESCRIPTION:Mix of Six band is a six-piece band consisting of drums\, keyboards\, bass\, guitar and two vocalists. They play classic rock and other well-known\, upbeat covers creating a high-energy and danceable environment.
URL:https://baciwinery.com/event/mix-of-six-band/
CATEGORIES:Music
ATTACH;FMTTYPE=image/jpeg:https://baciwinery.com/wp-content/uploads/2023/06/Mix-of-Six.jpg
END:VEVENT
BEGIN:VEVENT
DTSTART;TZID=America/New_York:20260627T170000
DTEND;TZID=America/New_York:20260627T200000
DTSTAMP:20260420T105612
CREATED:20240424T201028Z
LAST-MODIFIED:20260322T222759Z
UID:5323-1782579600-1782590400@baciwinery.com
SUMMARY:That 80s Band
DESCRIPTION:That 80s Band captures the moments and looks of the 80’s so well\, you will swear you went through a time machine! \n  \nThat 80s Band
URL:https://baciwinery.com/event/that-80s-band-2/
CATEGORIES:Music
ATTACH;FMTTYPE=image/jpeg:https://baciwinery.com/wp-content/uploads/2024/04/That-80s-Band.jpg
END:VEVENT
BEGIN:VEVENT
DTSTART;TZID=America/New_York:20260628T140000
DTEND;TZID=America/New_York:20260628T170000
DTSTAMP:20260420T105612
CREATED:20250815T024657Z
LAST-MODIFIED:20260322T222846Z
UID:5957-1782655200-1782666000@baciwinery.com
SUMMARY:Justo Saborit
DESCRIPTION:Justo Saborit\, a Cuban-born guitarist\, blends diverse styles with his roots to create vibrant music. His new album Rumbale showcases energetic and heartfelt tracks\, continuing his legacy of captivating performances and artistry. \nJusto Saborit
URL:https://baciwinery.com/event/justo-saborit-15/
CATEGORIES:Music
ATTACH;FMTTYPE=image/jpeg:https://baciwinery.com/wp-content/uploads/2025/04/Justo-Saborit.jpg
END:VEVENT
END:VCALENDAR