BEGIN:VCALENDAR
VERSION:2.0
PRODID:-//Baci Winery - ECPv6.15.20//NONSGML v1.0//EN
CALSCALE:GREGORIAN
METHOD:PUBLISH
X-WR-CALNAME:Baci Winery
X-ORIGINAL-URL:https://baciwinery.com
X-WR-CALDESC:Events for Baci Winery
REFRESH-INTERVAL;VALUE=DURATION:PT1H
X-Robots-Tag:noindex
X-PUBLISHED-TTL:PT1H
BEGIN:VTIMEZONE
TZID:America/New_York
BEGIN:DAYLIGHT
TZOFFSETFROM:-0500
TZOFFSETTO:-0400
TZNAME:EDT
DTSTART:20240310T070000
END:DAYLIGHT
BEGIN:STANDARD
TZOFFSETFROM:-0400
TZOFFSETTO:-0500
TZNAME:EST
DTSTART:20241103T060000
END:STANDARD
BEGIN:DAYLIGHT
TZOFFSETFROM:-0500
TZOFFSETTO:-0400
TZNAME:EDT
DTSTART:20250309T070000
END:DAYLIGHT
BEGIN:STANDARD
TZOFFSETFROM:-0400
TZOFFSETTO:-0500
TZNAME:EST
DTSTART:20251102T060000
END:STANDARD
BEGIN:DAYLIGHT
TZOFFSETFROM:-0500
TZOFFSETTO:-0400
TZNAME:EDT
DTSTART:20260308T070000
END:DAYLIGHT
BEGIN:STANDARD
TZOFFSETFROM:-0400
TZOFFSETTO:-0500
TZNAME:EST
DTSTART:20261101T060000
END:STANDARD
BEGIN:DAYLIGHT
TZOFFSETFROM:-0500
TZOFFSETTO:-0400
TZNAME:EDT
DTSTART:20270314T070000
END:DAYLIGHT
BEGIN:STANDARD
TZOFFSETFROM:-0400
TZOFFSETTO:-0500
TZNAME:EST
DTSTART:20271107T060000
END:STANDARD
END:VTIMEZONE
BEGIN:VEVENT
DTSTART;TZID=America/New_York:20251011T170000
DTEND;TZID=America/New_York:20251011T200000
DTSTAMP:20260420T232033
CREATED:20240627T143508Z
LAST-MODIFIED:20250826T013822Z
UID:5407-1760202000-1760212800@baciwinery.com
SUMMARY:The Summit feat. Al Bucco & Michael George
DESCRIPTION:Facebook
URL:https://baciwinery.com/event/the-summit-f-al-bucco-michael-george-2/
CATEGORIES:Music
ATTACH;FMTTYPE=image/jpeg:https://baciwinery.com/wp-content/uploads/2024/04/The-Summit2.jpg
END:VEVENT
BEGIN:VEVENT
DTSTART;TZID=America/New_York:20251012T140000
DTEND;TZID=America/New_York:20251012T170000
DTSTAMP:20260420T232033
CREATED:20250815T031001Z
LAST-MODIFIED:20250815T031012Z
UID:5961-1760277600-1760288400@baciwinery.com
SUMMARY:Just Dee Dee Music
DESCRIPTION:Just Dee Dee Music delivers acoustic rock\, country\, and folk favorites with heart\, soul\, and a voice that draws you in. \nJust Dee Dee Music
URL:https://baciwinery.com/event/just-dee-dee-music/
CATEGORIES:Music
ATTACH;FMTTYPE=image/jpeg:https://baciwinery.com/wp-content/uploads/2025/08/DeeDee-Music-Photo.jpg
END:VEVENT
BEGIN:VEVENT
DTSTART;TZID=America/New_York:20251031T170000
DTEND;TZID=America/New_York:20251031T170000
DTSTAMP:20260420T232033
CREATED:20250815T123337Z
LAST-MODIFIED:20250815T123337Z
UID:5972-1761930000-1761930000@baciwinery.com
SUMMARY:Halloween Bash!
DESCRIPTION:Eat\, Drink & Be Scary! \nJoin us for a night of Halloween Fun! Dress in your favorite costume and celebrate the night with us. It will be a scary good time! \nPrizes for an array of costumes!
URL:https://baciwinery.com/event/halloween-bash/
ATTACH;FMTTYPE=image/jpeg:https://baciwinery.com/wp-content/uploads/2025/08/Halloween-Bash.jpg
END:VEVENT
BEGIN:VEVENT
DTSTART;TZID=America/New_York:20251031T170000
DTEND;TZID=America/New_York:20251031T200000
DTSTAMP:20260420T232033
CREATED:20250418T122739Z
LAST-MODIFIED:20250815T034012Z
UID:5755-1761930000-1761940800@baciwinery.com
SUMMARY:DJ from McClure Entertainment
DESCRIPTION:Make plans to spend the evening at Baci Winery\, where great wine\, tasty food\, and upbeat music come together for the perfect night out. From 5–8pm\, enjoy a lively set from a McClure Entertainment and Events DJ while you sip\, savor\, and soak up the atmosphere. Whether you’re here to unwind or get on the dance floor\, Baci is the place to be.
URL:https://baciwinery.com/event/dj-from-mcclure-entertainment-2/
CATEGORIES:Music
ATTACH;FMTTYPE=image/jpeg:https://baciwinery.com/wp-content/uploads/2025/04/Baci-Winerly-DJ2.jpg
END:VEVENT
BEGIN:VEVENT
DTSTART;TZID=America/New_York:20251114T170000
DTEND;TZID=America/New_York:20251114T200000
DTSTAMP:20260420T232033
CREATED:20250826T012232Z
LAST-MODIFIED:20250826T012243Z
UID:6001-1763139600-1763150400@baciwinery.com
SUMMARY:The Bob Pott's Band
DESCRIPTION:The Bob Potts Band recreates tributes to a wide range of music from the 60’s\, 70’s\, and beyond. \n  \nBob Potts Band | Facebook
URL:https://baciwinery.com/event/the-bob-potts-band-3/
CATEGORIES:Music
ATTACH;FMTTYPE=image/jpeg:https://baciwinery.com/wp-content/uploads/2025/04/The-Bob-Potts-Band.jpg
END:VEVENT
BEGIN:VEVENT
DTSTART;VALUE=DATE:20251127
DTEND;VALUE=DATE:20251128
DTSTAMP:20260420T232033
CREATED:20251010T160644Z
LAST-MODIFIED:20251010T164541Z
UID:6068-1764201600-1764287999@baciwinery.com
SUMMARY:Closed for Thanksgiving
DESCRIPTION:
URL:https://baciwinery.com/event/closed-for-thanksgiving/
ATTACH;FMTTYPE=image/jpeg:https://baciwinery.com/wp-content/uploads/2025/10/Baci-Wine-Holiday-Bow.jpg
END:VEVENT
BEGIN:VEVENT
DTSTART;VALUE=DATE:20251205
DTEND;VALUE=DATE:20251206
DTSTAMP:20260420T232033
CREATED:20251010T160344Z
LAST-MODIFIED:20251010T162506Z
UID:6060-1764892800-1764979199@baciwinery.com
SUMMARY:Customer Appreciation Day
DESCRIPTION:All Fridays in December are Customer Appreciation Days! \nJoin us at Baci Winery for snacks\, great conversation\, and plenty of holiday cheer — our way of saying thank you for helping make Baci Winery such a wonderful place all year long.
URL:https://baciwinery.com/event/customer-appreciation-day/
ATTACH;FMTTYPE=image/jpeg:https://baciwinery.com/wp-content/uploads/2025/10/Baci-Customer-Appreciation-Days.jpg
END:VEVENT
BEGIN:VEVENT
DTSTART;TZID=America/New_York:20251206T170000
DTEND;TZID=America/New_York:20251206T200000
DTSTAMP:20260420T232033
CREATED:20240424T202415Z
LAST-MODIFIED:20251010T155322Z
UID:5334-1765040400-1765051200@baciwinery.com
SUMMARY:The Summit Featuring Al Bucco & Michael George
DESCRIPTION:See more on Facebook
URL:https://baciwinery.com/event/the-summit-f-al-bucco-michael-george/
CATEGORIES:Music
ATTACH;FMTTYPE=image/jpeg:https://baciwinery.com/wp-content/uploads/2024/04/The-Summit2.jpg
END:VEVENT
BEGIN:VEVENT
DTSTART;VALUE=DATE:20251212
DTEND;VALUE=DATE:20251213
DTSTAMP:20260420T232033
CREATED:20251010T160439Z
LAST-MODIFIED:20251010T162825Z
UID:6062-1765497600-1765583999@baciwinery.com
SUMMARY:Customer Appreciation Day
DESCRIPTION:All Fridays in December are Customer Appreciation Days! \nJoin us at Baci Winery for snacks\, great conversation\, and plenty of holiday cheer — our way of saying thank you for helping make Baci Winery such a wonderful place all year long.
URL:https://baciwinery.com/event/customer-appreciation-day-2/
ATTACH;FMTTYPE=image/jpeg:https://baciwinery.com/wp-content/uploads/2025/10/Baci-Customer-Appreciation-Days.jpg
END:VEVENT
BEGIN:VEVENT
DTSTART;TZID=America/New_York:20251212T170000
DTEND;TZID=America/New_York:20251212T200000
DTSTAMP:20260420T232033
CREATED:20240424T202935Z
LAST-MODIFIED:20251010T155453Z
UID:5336-1765558800-1765569600@baciwinery.com
SUMMARY:Joe Vitale\, Jr.
DESCRIPTION:See more on Facebook \nhttps://www.joevitalejr.com/ \n 
URL:https://baciwinery.com/event/joe-vitale-jr/
CATEGORIES:Music
ATTACH;FMTTYPE=image/jpeg:https://baciwinery.com/wp-content/uploads/2024/04/Joe-Vitale-Jr.jpg
END:VEVENT
BEGIN:VEVENT
DTSTART;VALUE=DATE:20251219
DTEND;VALUE=DATE:20251220
DTSTAMP:20260420T232033
CREATED:20251010T160532Z
LAST-MODIFIED:20251010T162404Z
UID:6064-1766102400-1766188799@baciwinery.com
SUMMARY:Customer Appreciation Day
DESCRIPTION:All Fridays in December are Customer Appreciation Days! \nJoin us at Baci Winery for snacks\, great conversation\, and plenty of holiday cheer — our way of saying thank you for helping make Baci Winery such a wonderful place all year long.
URL:https://baciwinery.com/event/customer-appreciation-day-3/
ATTACH;FMTTYPE=image/jpeg:https://baciwinery.com/wp-content/uploads/2025/10/Baci-Customer-Appreciation-Days.jpg
END:VEVENT
BEGIN:VEVENT
DTSTART;TZID=America/New_York:20251219T170000
DTEND;TZID=America/New_York:20251219T190000
DTSTAMP:20260420T232033
CREATED:20251114T000819Z
LAST-MODIFIED:20251114T001513Z
UID:6106-1766163600-1766170800@baciwinery.com
SUMMARY:Toast with the Winemaker
DESCRIPTION:Join us during Customer Appreciation Days and toast with Baci’s winemaker\, Lauren Fiala. Find out what she has in store for the new year\, learn about our wines and what you should buy to pair with your holiday dinner. No tickets or reservations required.
URL:https://baciwinery.com/event/toast-with-the-winemaker/
ATTACH;FMTTYPE=image/jpeg:https://baciwinery.com/wp-content/uploads/2025/11/Toast-with-Winemaker-111325.jpg
END:VEVENT
BEGIN:VEVENT
DTSTART;TZID=America/New_York:20251220T170000
DTEND;TZID=America/New_York:20251220T200000
DTSTAMP:20260420T232033
CREATED:20250501T193730Z
LAST-MODIFIED:20251114T005351Z
UID:5845-1766250000-1766260800@baciwinery.com
SUMMARY:Bobby Leach
DESCRIPTION:Best Of Sinatra along with some classic dance music \n  \nBobby Leach | Facebook
URL:https://baciwinery.com/event/bobby-leach-3/
CATEGORIES:Music
ATTACH;FMTTYPE=image/jpeg:https://baciwinery.com/wp-content/uploads/2024/04/Bobby-Leach-1.jpg
END:VEVENT
BEGIN:VEVENT
DTSTART;TZID=America/New_York:20251221T140000
DTEND;TZID=America/New_York:20251221T170000
DTSTAMP:20260420T232033
CREATED:20231125T202910Z
LAST-MODIFIED:20251010T155831Z
UID:5130-1766325600-1766336400@baciwinery.com
SUMMARY:Valerie Marini Christmas Show
DESCRIPTION:Valerie Marini performs with a lifetime of music and memories. Her personal touch and contagious energy are not to be missed! A professional musician\, singer and songwriter her music expands from Standards to Contemporary Pop\, Broadway to Blues. Every performance is a surprise!
URL:https://baciwinery.com/event/valerie-marini/
CATEGORIES:Music
ATTACH;FMTTYPE=image/webp:https://baciwinery.com/wp-content/uploads/2023/11/Valerie-Marini.webp
END:VEVENT
BEGIN:VEVENT
DTSTART;VALUE=DATE:20251224
DTEND;VALUE=DATE:20251226
DTSTAMP:20260420T232033
CREATED:20251010T160738Z
LAST-MODIFIED:20251010T164142Z
UID:6070-1766534400-1766707199@baciwinery.com
SUMMARY:Closed for the Holidays
DESCRIPTION:
URL:https://baciwinery.com/event/closed-for-the-holidays/
ATTACH;FMTTYPE=image/jpeg:https://baciwinery.com/wp-content/uploads/2025/10/Baci-Wine-Holiday-Bow.jpg
END:VEVENT
BEGIN:VEVENT
DTSTART;VALUE=DATE:20251226
DTEND;VALUE=DATE:20251227
DTSTAMP:20260420T232033
CREATED:20251010T160603Z
LAST-MODIFIED:20251010T161815Z
UID:6066-1766707200-1766793599@baciwinery.com
SUMMARY:Customer Appreciation Day
DESCRIPTION:All Fridays in December are Customer Appreciation Days! \nJoin us at Baci Winery for snacks\, great conversation\, and plenty of holiday cheer — our way of saying thank you for helping make Baci Winery such a wonderful place all year long.
URL:https://baciwinery.com/event/customer-appreciation-day-4/
ATTACH;FMTTYPE=image/jpeg:https://baciwinery.com/wp-content/uploads/2025/10/Baci-Customer-Appreciation-Days.jpg
END:VEVENT
BEGIN:VEVENT
DTSTART;TZID=America/New_York:20251226T170000
DTEND;TZID=America/New_York:20251226T200000
DTSTAMP:20260420T232033
CREATED:20250818T223408Z
LAST-MODIFIED:20251026T185855Z
UID:5979-1766768400-1766779200@baciwinery.com
SUMMARY:Sound And Vision
DESCRIPTION:Sound And Vision brings high-energy rock and pop classics to life with tight harmonies and infectious grooves. Ashtabula’s own crowd-pleasing duo delivers a setlist packed with feel-good favorites—don’t miss your chance to catch them live! \nSound And Vision
URL:https://baciwinery.com/event/sound-and-vision/
CATEGORIES:Music
ATTACH;FMTTYPE=image/jpeg:https://baciwinery.com/wp-content/uploads/2025/08/Sound-And-Vision-Band-Logo.jpg
END:VEVENT
BEGIN:VEVENT
DTSTART;TZID=America/New_York:20251227T160000
DTEND;TZID=America/New_York:20251227T190000
DTSTAMP:20260420T232033
CREATED:20250801T211802Z
LAST-MODIFIED:20251227T193418Z
UID:5929-1766851200-1766862000@baciwinery.com
SUMMARY:Epilogue
DESCRIPTION:Blending funk\, jazz\, and rock with heartfelt originals\, Epilogue crafts a sound that’s both fresh and familiar. Their live sets pulse with groove\, grit\, and a whole lot of Cleveland soul. \nFacebook
URL:https://baciwinery.com/event/epilogue/
CATEGORIES:Music
ATTACH;FMTTYPE=image/jpeg:https://baciwinery.com/wp-content/uploads/2025/08/Epilogue-Promo-Photo.jpeg
END:VEVENT
BEGIN:VEVENT
DTSTART;VALUE=DATE:20251231
DTEND;VALUE=DATE:20260102
DTSTAMP:20260420T232033
CREATED:20251010T160812Z
LAST-MODIFIED:20251010T164720Z
UID:6072-1767139200-1767311999@baciwinery.com
SUMMARY:Closed for the Holidays
DESCRIPTION:
URL:https://baciwinery.com/event/closed-for-the-holidays-2/
ATTACH;FMTTYPE=image/jpeg:https://baciwinery.com/wp-content/uploads/2025/10/Baci-Wine-Holiday-Bow.jpg
END:VEVENT
BEGIN:VEVENT
DTSTART;TZID=America/New_York:20260102T170000
DTEND;TZID=America/New_York:20260102T200000
DTSTAMP:20260420T232033
CREATED:20251114T010035Z
LAST-MODIFIED:20251114T010035Z
UID:6132-1767373200-1767384000@baciwinery.com
SUMMARY:Ethan Legere
DESCRIPTION:Ethan Légère is a singer-songwriter based in Ashtabula\, Ohio\, who brings warmth and authenticity to every live performance. With his guitar in hand and heartfelt vocals\, he delivers original songs and carefully chosen covers that resonate with small-town roots and open-hearted storytelling. Whether from his hometown stages or intimate venues\, Ethan’s music invites listeners on a journey where nature\, emotion and melody meet. \nSee Ethan on YouTube
URL:https://baciwinery.com/event/ethan-legere/
CATEGORIES:Music
ATTACH;FMTTYPE=image/jpeg:https://baciwinery.com/wp-content/uploads/2025/11/Ethan-Legere-111325.jpg
END:VEVENT
BEGIN:VEVENT
DTSTART;TZID=America/New_York:20260103T170000
DTEND;TZID=America/New_York:20260103T200000
DTSTAMP:20260420T232033
CREATED:20240424T204011Z
LAST-MODIFIED:20251227T193836Z
UID:5349-1767459600-1767470400@baciwinery.com
SUMMARY:The Bob Potts Band
DESCRIPTION:Based in Northeast Ohio\, the Bob Potts Band is known for delivering energetic\, crowd-friendly renditions of classic songs from the 1960s\, ’70s and beyond. \nWith a strong focus on recreating popular hits\, the band thrives on audience engagement\, intimate settings\, and providing a feel-good experience for listeners of many generations. \nFacebook
URL:https://baciwinery.com/event/the-bob-potts-band/
CATEGORIES:Music
ATTACH;FMTTYPE=image/jpeg:https://baciwinery.com/wp-content/uploads/2025/04/Bob-Potts-Logo.jpg
END:VEVENT
BEGIN:VEVENT
DTSTART;TZID=America/New_York:20260109T170000
DTEND;TZID=America/New_York:20260109T200000
DTSTAMP:20260420T232033
CREATED:20241030T155323Z
LAST-MODIFIED:20251114T010657Z
UID:5526-1767978000-1767988800@baciwinery.com
SUMMARY:Swingbone Trio
DESCRIPTION:Swingbone serves up smooth jazz\, cool blues\, and classic swing with style—perfect for fans of timeless grooves and top-tier musicianship. \nSwingbone
URL:https://baciwinery.com/event/swingbone-trio/
CATEGORIES:Music
ATTACH;FMTTYPE=image/webp:https://baciwinery.com/wp-content/uploads/2024/10/Swingbone-Trio.webp
END:VEVENT
BEGIN:VEVENT
DTSTART;TZID=America/New_York:20260110T133000
DTEND;TZID=America/New_York:20260110T141500
DTSTAMP:20260420T232033
CREATED:20250126T143905Z
LAST-MODIFIED:20251114T002805Z
UID:5645-1768051800-1768054500@baciwinery.com
SUMMARY:Tour & Tasting
DESCRIPTION:Get a behind-the-scenes look at winemaking with Baci Winery. The tour\, led by winemaker Lauren Fiala\, will showcase several wines in the tasting. Must be 21+. Limited quantity. Tickets available online. \nDates and times available: \n\nJanuary 10th\nJanuary 24th\nFebruary 7th\nFebruary 21th\n\nClick HERE to purchase tickets
URL:https://baciwinery.com/event/baci-winery-tour-tasting-2/
CATEGORIES:Tasting
ATTACH;FMTTYPE=image/jpeg:https://baciwinery.com/wp-content/uploads/2025/11/Baci-Tour-and-Tasting-111325B.jpg
END:VEVENT
BEGIN:VEVENT
DTSTART;TZID=America/New_York:20260110T170000
DTEND;TZID=America/New_York:20260110T200000
DTSTAMP:20260420T232033
CREATED:20250424T032611Z
LAST-MODIFIED:20251114T010745Z
UID:5817-1768064400-1768075200@baciwinery.com
SUMMARY:Jimmy Mrozek
DESCRIPTION:Jimmy Mrozek\, a Cleveland-based singer-songwriter\, charms audiences with his laid-back style and heartfelt performances. \n  \nJimmy Mrozek | Music | Cleveland
URL:https://baciwinery.com/event/jimmy-mrozek/
CATEGORIES:Music
ATTACH;FMTTYPE=image/jpeg:https://baciwinery.com/wp-content/uploads/2025/04/Jimmy-Mrozek.jpg
END:VEVENT
BEGIN:VEVENT
DTSTART;TZID=America/New_York:20260116T180000
DTEND;TZID=America/New_York:20260116T210000
DTSTAMP:20260420T232033
CREATED:20250924T222504Z
LAST-MODIFIED:20251127T012316Z
UID:6045-1768586400-1768597200@baciwinery.com
SUMMARY:Winter Wine Dinner
DESCRIPTION:Journey through a culinary and wine tasting delight. A tasting for the senses featuring exceptional cuisine paired with the best of Baci Winery vintages. Join us on Friday\, January 16 at 6pm for this spectacular event. Secure your tickets today. $120 per person. Price includes tax and gratuity. This dinner will be held in the tasting room. \n1st Course\nWinter Panzanella Salad\, Brussel Sprouts\, Toasted Baguette\, Medjool\nDates\, Red Onion\, Sweet Potato\, Maple Balsamic Vinaigrette \n2nd Course\nPan Seared Bronzino\, Roasted Cauliflower & Kale. Cauliflower Puree\,\nCrispy Garlic Chips\, Cumin Chili Oil \nIntermezzo-Pear Granita \n3rd Course\nDuck Confit\, Sweet Potato & Coconut Puree. Frisee\, Torn Herb\, Pumpkin\nSeed & Currant Gremolata\, Goat Cheese\, Pomegranate Molasses \n4th Course\nMadeira Braised Beef Cheeks\, Yukon Gold Potato Puree\, Maple Thyme Glazed Baby Carrots\, Crispy Shallots \n5th Course\nDessert “Snow Much Fun\, Snow Man!” White Chocolate Mousse\, Yuzu\nPanacotta\, Honey Cake\, Coconut Flakes\, White Chocolate Truffle\,\nButterscotch Nose garnished with White Chocolate “Snow” \nTickets are available for purchase HERE.
URL:https://baciwinery.com/event/wine-dinner-2/
CATEGORIES:General
ATTACH;FMTTYPE=image/jpeg:https://baciwinery.com/wp-content/uploads/2025/09/Winter-Wine-Dinner-111325.jpg
END:VEVENT
BEGIN:VEVENT
DTSTART;TZID=America/New_York:20260124T133000
DTEND;TZID=America/New_York:20260124T141500
DTSTAMP:20260420T232033
CREATED:20251114T002330Z
LAST-MODIFIED:20251114T002852Z
UID:6113-1769261400-1769264100@baciwinery.com
SUMMARY:Tour & Tasting
DESCRIPTION:Get a behind-the-scenes look at winemaking with Baci Winery. The tour\, led by winemaker Lauren Fiala\, will showcase several wines in the tasting. Must be 21+. Limited quantity. Tickets available online. \nDates and times available: \n\nJanuary 24th\nFebruary 7th\nFebruary 21th\n\nClick HERE to purchase tickets
URL:https://baciwinery.com/event/tour-tasting/
CATEGORIES:Tasting
ATTACH;FMTTYPE=image/jpeg:https://baciwinery.com/wp-content/uploads/2025/11/Baci-Tour-and-Tasting-111325B.jpg
END:VEVENT
BEGIN:VEVENT
DTSTART;TZID=America/New_York:20260130T170000
DTEND;TZID=America/New_York:20260130T200000
DTSTAMP:20260420T232033
CREATED:20250308T164326Z
LAST-MODIFIED:20251121T031054Z
UID:5705-1769792400-1769803200@baciwinery.com
SUMMARY:The Summit feat. Al Bucco & Michael George
DESCRIPTION:Facebook
URL:https://baciwinery.com/event/al-bucco-3/
CATEGORIES:Music
ATTACH;FMTTYPE=image/jpeg:https://baciwinery.com/wp-content/uploads/2024/04/The-Summit2.jpg
END:VEVENT
BEGIN:VEVENT
DTSTART;TZID=America/New_York:20260130T180000
DTEND;TZID=America/New_York:20260130T200000
DTSTAMP:20260420T232033
CREATED:20240101T014445Z
LAST-MODIFIED:20251114T004249Z
UID:5171-1769796000-1769803200@baciwinery.com
SUMMARY:Pinot Noir Experience
DESCRIPTION:Immerse yourself in the world of Pinot Noir. Join winemaker Lauren Fiala on a guided vertical tasting of St. Joseph vineyard and Baci Winery estate-grown Pinot Noir. Through a range of years\, Lauren will emphasize the variations from one bottle to the next and discuss how the growing seasons and cellar choices can differentiate vintages. Includes heavy hors d’ouevres\, wine tastings\, wine notes\, and the opportunity to purchase an array of Pinot Noir wines from our vault at the conclusion of our event. $40 per person. 21+. \nClick HERE to purchase tickets.
URL:https://baciwinery.com/event/pinot-noir-vertical-tasting/
CATEGORIES:Tasting
ATTACH;FMTTYPE=image/jpeg:https://baciwinery.com/wp-content/uploads/2023/12/Pinot-Noir-Experience.jpg
END:VEVENT
BEGIN:VEVENT
DTSTART;TZID=America/New_York:20260131T170000
DTEND;TZID=America/New_York:20260131T200000
DTSTAMP:20260420T232033
CREATED:20241127T192803Z
LAST-MODIFIED:20251114T011614Z
UID:5558-1769878800-1769889600@baciwinery.com
SUMMARY:Gio Castiglione
DESCRIPTION:Gio Castiglione is a Cleveland-based vocalist known for his rich baritone voice and versatile repertoire spanning jazz\, swing\, Italian classics\, and contemporary standards. Trained in vocal performance and choral music at Bowling Green State University\, Gio blends technical precision with an expressive\, old-soul style reminiscent of Sinatra\, Darin\, Martin\, and Bennett. \nFrom smooth jazz standards to operatic moments\, Gio’s performances offer a warm\, elegant musical experience that resonates across generations.\nGiovanni Castiglione
URL:https://baciwinery.com/event/gio-castiglione/
CATEGORIES:Music
ATTACH;FMTTYPE=image/webp:https://baciwinery.com/wp-content/uploads/2024/11/Gio-Castiglione-1.webp
END:VEVENT
BEGIN:VEVENT
DTSTART;TZID=America/New_York:20260206T170000
DTEND;TZID=America/New_York:20260206T200000
DTSTAMP:20260420T232033
CREATED:20250826T011145Z
LAST-MODIFIED:20260102T173916Z
UID:5996-1770397200-1770408000@baciwinery.com
SUMMARY:Heaven's Rebel
DESCRIPTION:Heaven’s Rebel: Acoustic Guitar/Vocal duo- playing classic favorite cover songs from 60’s-present.
URL:https://baciwinery.com/event/heavens-rebel-3/
CATEGORIES:Music
ATTACH;FMTTYPE=image/jpeg:https://baciwinery.com/wp-content/uploads/2024/03/Heavens-Rebel-1.jpg
END:VEVENT
END:VCALENDAR