BEGIN:VCALENDAR
VERSION:2.0
PRODID:-//Baci Winery - ECPv6.15.20//NONSGML v1.0//EN
CALSCALE:GREGORIAN
METHOD:PUBLISH
X-WR-CALNAME:Baci Winery
X-ORIGINAL-URL:https://baciwinery.com
X-WR-CALDESC:Events for Baci Winery
REFRESH-INTERVAL;VALUE=DURATION:PT1H
X-Robots-Tag:noindex
X-PUBLISHED-TTL:PT1H
BEGIN:VTIMEZONE
TZID:America/New_York
BEGIN:DAYLIGHT
TZOFFSETFROM:-0500
TZOFFSETTO:-0400
TZNAME:EDT
DTSTART:20240310T070000
END:DAYLIGHT
BEGIN:STANDARD
TZOFFSETFROM:-0400
TZOFFSETTO:-0500
TZNAME:EST
DTSTART:20241103T060000
END:STANDARD
BEGIN:DAYLIGHT
TZOFFSETFROM:-0500
TZOFFSETTO:-0400
TZNAME:EDT
DTSTART:20250309T070000
END:DAYLIGHT
BEGIN:STANDARD
TZOFFSETFROM:-0400
TZOFFSETTO:-0500
TZNAME:EST
DTSTART:20251102T060000
END:STANDARD
BEGIN:DAYLIGHT
TZOFFSETFROM:-0500
TZOFFSETTO:-0400
TZNAME:EDT
DTSTART:20260308T070000
END:DAYLIGHT
BEGIN:STANDARD
TZOFFSETFROM:-0400
TZOFFSETTO:-0500
TZNAME:EST
DTSTART:20261101T060000
END:STANDARD
END:VTIMEZONE
BEGIN:VEVENT
DTSTART;TZID=America/New_York:20250727T140000
DTEND;TZID=America/New_York:20250727T170000
DTSTAMP:20260420T194012
CREATED:20250424T022639Z
LAST-MODIFIED:20250424T022639Z
UID:5790-1753624800-1753635600@baciwinery.com
SUMMARY:Joshua Robert
DESCRIPTION:Joshua Robert\, a talented singer-songwriter from Willoughby\, Ohio\, captivates audiences with his passionate voice and crisp acoustic guitar style\, making every performance unforgettable. \n  \nJoshua Robert Entertainment
URL:https://baciwinery.com/event/joshua-robert-2/
CATEGORIES:Music
ATTACH;FMTTYPE=image/jpeg:https://baciwinery.com/wp-content/uploads/2025/04/Joshua-Robert.jpg
END:VEVENT
BEGIN:VEVENT
DTSTART;VALUE=DATE:20250726
DTEND;VALUE=DATE:20250727
DTSTAMP:20260420T194012
CREATED:20250424T035610Z
LAST-MODIFIED:20250424T040856Z
UID:5786-1753488000-1753574399@baciwinery.com
SUMMARY:Baci Winery's 80's Party!
DESCRIPTION:Wear your favorite 80s attire and dance the night away to your favorite throwback tunes!
URL:https://baciwinery.com/event/baci-winerys-80s-party/
CATEGORIES:General
ATTACH;FMTTYPE=image/jpeg:https://baciwinery.com/wp-content/uploads/2025/04/Baci-Winerys-80s-Night-Party.jpg
END:VEVENT
BEGIN:VEVENT
DTSTART;TZID=America/New_York:20250711T170000
DTEND;TZID=America/New_York:20250711T200000
DTSTAMP:20260420T194012
CREATED:20250423T204717Z
LAST-MODIFIED:20250423T204717Z
UID:5759-1752253200-1752264000@baciwinery.com
SUMMARY:Miles Beyond
DESCRIPTION:Miles Beyond Band is a talented group of musicians based in Northeastern Ohio\, specializing in Classic Rock\, Blues\, Motown\, and original music. With a strong local presence\, they bring energy and passion to every performance\, captivating audiences with their dynamic sound. Whether playing at live venues or engaging with fans online\, Miles Beyond Band is dedicated to delivering unforgettable musical experiences. \nYou can check out their official Facebook page here to stay updated on their latest shows and events. \n 
URL:https://baciwinery.com/event/miles-beyond-2/
CATEGORIES:Music
ATTACH;FMTTYPE=image/jpeg:https://baciwinery.com/wp-content/uploads/2025/04/Miles-Beyond-Band.jpg
END:VEVENT
BEGIN:VEVENT
DTSTART;TZID=America/New_York:20250629T140000
DTEND;TZID=America/New_York:20250629T170000
DTSTAMP:20260420T194012
CREATED:20250203T132013Z
LAST-MODIFIED:20250308T165132Z
UID:5687-1751205600-1751216400@baciwinery.com
SUMMARY:Nick Zuber
DESCRIPTION:
URL:https://baciwinery.com/event/nick-zuber-2/
CATEGORIES:Music
ATTACH;FMTTYPE=image/webp:https://baciwinery.com/wp-content/uploads/2024/12/Nick-Zuber.webp
END:VEVENT
BEGIN:VEVENT
DTSTART;TZID=America/New_York:20250622T140000
DTEND;TZID=America/New_York:20250622T170000
DTSTAMP:20260420T194012
CREATED:20240627T142205Z
LAST-MODIFIED:20250308T163908Z
UID:5398-1750600800-1750611600@baciwinery.com
SUMMARY:Justo Saborit
DESCRIPTION:https://justosaborit.net
URL:https://baciwinery.com/event/justo-saborit-9/
CATEGORIES:Music
ATTACH;FMTTYPE=image/jpeg:https://baciwinery.com/wp-content/uploads/2023/05/Baci-Winery-Justo-Saborit.jpg
END:VEVENT
BEGIN:VEVENT
DTSTART;TZID=America/New_York:20250621T170000
DTEND;TZID=America/New_York:20250621T200000
DTSTAMP:20260420T194012
CREATED:20240424T201206Z
LAST-MODIFIED:20250308T164543Z
UID:5325-1750525200-1750536000@baciwinery.com
SUMMARY:The KingPins
DESCRIPTION:Facebook
URL:https://baciwinery.com/event/the-kingpins-2/
CATEGORIES:Music
ATTACH;FMTTYPE=image/jpeg:https://baciwinery.com/wp-content/uploads/2024/04/KingPins.jpg
END:VEVENT
BEGIN:VEVENT
DTSTART;TZID=America/New_York:20250615T140000
DTEND;TZID=America/New_York:20250615T170000
DTSTAMP:20260420T194012
CREATED:20230819T231436Z
LAST-MODIFIED:20250308T163040Z
UID:4712-1749996000-1750006800@baciwinery.com
SUMMARY:The Bob Potts Band
DESCRIPTION:Facebook
URL:https://baciwinery.com/event/bob-potts/
CATEGORIES:Music
ATTACH;FMTTYPE=image/webp:https://baciwinery.com/wp-content/uploads/2024/04/The-Bob-Potts-Band.webp
END:VEVENT
BEGIN:VEVENT
DTSTART;VALUE=DATE:20250615
DTEND;VALUE=DATE:20250616
DTSTAMP:20260420T194012
CREATED:20250411T125840Z
LAST-MODIFIED:20250411T125840Z
UID:5733-1749945600-1750031999@baciwinery.com
SUMMARY:Father's Day Specials
DESCRIPTION:
URL:https://baciwinery.com/event/fathers-day-specials/
CATEGORIES:General
ATTACH;FMTTYPE=image/webp:https://baciwinery.com/wp-content/uploads/2025/04/Baci-Winery-Fathers-Day.webp
END:VEVENT
BEGIN:VEVENT
DTSTART;TZID=America/New_York:20250607T170000
DTEND;TZID=America/New_York:20250607T200000
DTSTAMP:20260420T194012
CREATED:20240627T144328Z
LAST-MODIFIED:20250308T164406Z
UID:5412-1749315600-1749326400@baciwinery.com
SUMMARY:Miles Beyond
DESCRIPTION:Miles Beyond – Facebook
URL:https://baciwinery.com/event/miles-beyond/
CATEGORIES:Music
ATTACH;FMTTYPE=image/webp:https://baciwinery.com/wp-content/uploads/2024/06/Miles-Beyond.webp
END:VEVENT
BEGIN:VEVENT
DTSTART;TZID=America/New_York:20250606T170000
DTEND;TZID=America/New_York:20250606T200000
DTSTAMP:20260420T194012
CREATED:20250308T163627Z
LAST-MODIFIED:20250430T175747Z
UID:5701-1749229200-1749240000@baciwinery.com
SUMMARY:Maria Petti
DESCRIPTION:Maria Petti Music – Facebook
URL:https://baciwinery.com/event/maria-petti-3/
CATEGORIES:Music
ATTACH;FMTTYPE=image/jpeg:https://baciwinery.com/wp-content/uploads/2025/04/Maria-Petti.jpg
END:VEVENT
BEGIN:VEVENT
DTSTART;VALUE=DATE:20250601
DTEND;VALUE=DATE:20250701
DTSTAMP:20260420T194012
CREATED:20250411T130934Z
LAST-MODIFIED:20250411T130934Z
UID:5738-1748736000-1751327999@baciwinery.com
SUMMARY:Rose Trail Month
DESCRIPTION:
URL:https://baciwinery.com/event/rose-trail-month/
CATEGORIES:General
ATTACH;FMTTYPE=image/webp:https://baciwinery.com/wp-content/uploads/2025/04/Baci-Rose-Trail-Month.webp
END:VEVENT
BEGIN:VEVENT
DTSTART;TZID=America/New_York:20250525T140000
DTEND;TZID=America/New_York:20250525T170000
DTSTAMP:20260420T194012
CREATED:20240919T185716Z
LAST-MODIFIED:20250308T164102Z
UID:5458-1748181600-1748192400@baciwinery.com
SUMMARY:Joshua Robert
DESCRIPTION:
URL:https://baciwinery.com/event/joshua-robert/
CATEGORIES:Music
ATTACH;FMTTYPE=image/webp:https://baciwinery.com/wp-content/uploads/2024/09/Joshua-Robert.webp
END:VEVENT
BEGIN:VEVENT
DTSTART;TZID=America/New_York:20250523T170000
DTEND;TZID=America/New_York:20250523T200000
DTSTAMP:20260420T194012
CREATED:20240424T202124Z
LAST-MODIFIED:20250308T164012Z
UID:5332-1748019600-1748030400@baciwinery.com
SUMMARY:Bobby Leach
DESCRIPTION:Facebook
URL:https://baciwinery.com/event/bobby-leach-2/
CATEGORIES:Music
ATTACH;FMTTYPE=image/jpeg:https://baciwinery.com/wp-content/uploads/2024/04/Bobby-Leach.jpg
END:VEVENT
BEGIN:VEVENT
DTSTART;TZID=America/New_York:20250518T140000
DTEND;TZID=America/New_York:20250518T170000
DTSTAMP:20260420T194012
CREATED:20240627T142306Z
LAST-MODIFIED:20250308T163815Z
UID:5400-1747576800-1747587600@baciwinery.com
SUMMARY:Justo Saborit
DESCRIPTION:https://justosaborit.net
URL:https://baciwinery.com/event/justo-saborit-10/
CATEGORIES:Music
ATTACH;FMTTYPE=image/jpeg:https://baciwinery.com/wp-content/uploads/2023/05/Baci-Winery-Justo-Saborit.jpg
END:VEVENT
BEGIN:VEVENT
DTSTART;TZID=America/New_York:20250516T170000
DTEND;TZID=America/New_York:20250516T200000
DTSTAMP:20260420T194012
CREATED:20250411T131913Z
LAST-MODIFIED:20250411T131913Z
UID:5741-1747414800-1747425600@baciwinery.com
SUMMARY:Maria Petti
DESCRIPTION:
URL:https://baciwinery.com/event/maria-petti/
CATEGORIES:Music
ATTACH;FMTTYPE=image/webp:https://baciwinery.com/wp-content/uploads/2024/08/Maria-Petti.webp
END:VEVENT
BEGIN:VEVENT
DTSTART;VALUE=DATE:20250511
DTEND;VALUE=DATE:20250512
DTSTAMP:20260420T194012
CREATED:20250308T170049Z
LAST-MODIFIED:20250508T185854Z
UID:5708-1746921600-1747007999@baciwinery.com
SUMMARY:Mother's Day - Special Menu
DESCRIPTION:The regular menu will be available along with several specials. The kitchen will be open from 11am-5pm.
URL:https://baciwinery.com/event/mothers-day-special-menu/
CATEGORIES:General
ATTACH;FMTTYPE=image/webp:https://baciwinery.com/wp-content/uploads/2025/03/top-spring-flowers.webp
END:VEVENT
BEGIN:VEVENT
DTSTART;TZID=America/New_York:20250510T170000
DTEND;TZID=America/New_York:20250510T200000
DTSTAMP:20260420T194012
CREATED:20240627T143645Z
LAST-MODIFIED:20250411T130118Z
UID:5409-1746896400-1746907200@baciwinery.com
SUMMARY:Duetto D'amore
DESCRIPTION:Duetto D’Amore featuring Gio Castiglione & Maddy Depinet
URL:https://baciwinery.com/event/duetto-damore/
CATEGORIES:Music
ATTACH;FMTTYPE=image/webp:https://baciwinery.com/wp-content/uploads/2025/04/Baci-Winery-Duetto-DAmore.webp
END:VEVENT
BEGIN:VEVENT
DTSTART;TZID=America/New_York:20250503T170000
DTEND;TZID=America/New_York:20250503T200000
DTSTAMP:20260420T194012
CREATED:20250418T122339Z
LAST-MODIFIED:20250418T122517Z
UID:5748-1746291600-1746302400@baciwinery.com
SUMMARY:DJ from McClure Entertainment
DESCRIPTION:Join us at Baci Winery for an unforgettable evening of wine\, food\, and live entertainment! From 5–8pm\, a DJ from McClure Entertainment and Events will be spinning your favorite tunes\, setting the perfect vibe for a fun and relaxing night. Enjoy delicious food\, sip on your favorite Baci wines\, and dance the evening away with friends—this is your perfect weekend plan!
URL:https://baciwinery.com/event/dj-from-mcclure-entertainment/
CATEGORIES:Music
ATTACH;FMTTYPE=image/jpeg:https://baciwinery.com/wp-content/uploads/2025/04/Baci-Winerly-DJ2.jpg
END:VEVENT
BEGIN:VEVENT
DTSTART;VALUE=DATE:20250503
DTEND;VALUE=DATE:20250504
DTSTAMP:20260420T194012
CREATED:20250411T125751Z
LAST-MODIFIED:20250411T131953Z
UID:5731-1746230400-1746316799@baciwinery.com
SUMMARY:Derby Hat Day
DESCRIPTION:Wear your favorite Derby Hat for a chance to win prizes!
URL:https://baciwinery.com/event/derby-hat-day/
CATEGORIES:General
ATTACH;FMTTYPE=image/webp:https://baciwinery.com/wp-content/uploads/2025/04/Baci-Winery-Derby-Hat-Day.webp
END:VEVENT
BEGIN:VEVENT
DTSTART;VALUE=DATE:20250502
DTEND;VALUE=DATE:20250505
DTSTAMP:20260420T194012
CREATED:20250411T125655Z
LAST-MODIFIED:20250411T125655Z
UID:5729-1746144000-1746403199@baciwinery.com
SUMMARY:Cinco de Mayo Specials
DESCRIPTION:
URL:https://baciwinery.com/event/cinco-de-mayo-specials/
CATEGORIES:General
ATTACH;FMTTYPE=image/webp:https://baciwinery.com/wp-content/uploads/2025/04/Baci-Winery-Cinco-De-Mayo.webp
END:VEVENT
BEGIN:VEVENT
DTSTART;TZID=America/New_York:20250426T170000
DTEND;TZID=America/New_York:20250426T200000
DTSTAMP:20260420T194012
CREATED:20240919T185023Z
LAST-MODIFIED:20250411T131518Z
UID:5456-1745686800-1745697600@baciwinery.com
SUMMARY:Maria Petti
DESCRIPTION:
URL:https://baciwinery.com/event/maria-petti-2/
CATEGORIES:Music
ATTACH;FMTTYPE=image/webp:https://baciwinery.com/wp-content/uploads/2024/08/Maria-Petti.webp
END:VEVENT
BEGIN:VEVENT
DTSTART;TZID=America/New_York:20250411T170000
DTEND;TZID=America/New_York:20250411T200000
DTSTAMP:20260420T194012
CREATED:20241209T162604Z
LAST-MODIFIED:20250126T142134Z
UID:5561-1744390800-1744401600@baciwinery.com
SUMMARY:Nick Zuber
DESCRIPTION:
URL:https://baciwinery.com/event/nick-zuber/
CATEGORIES:Music
ATTACH;FMTTYPE=image/webp:https://baciwinery.com/wp-content/uploads/2024/12/Nick-Zuber.webp
END:VEVENT
BEGIN:VEVENT
DTSTART;TZID=America/New_York:20250406T103000
DTEND;TZID=America/New_York:20250406T153000
DTSTAMP:20260420T194012
CREATED:20241210T162741Z
LAST-MODIFIED:20241210T162741Z
UID:5592-1743935400-1743953400@baciwinery.com
SUMMARY:Sunday Brunch
DESCRIPTION:
URL:https://baciwinery.com/event/sunday-brunch-18/
CATEGORIES:General
ATTACH;FMTTYPE=image/webp:https://baciwinery.com/wp-content/uploads/2024/09/Baci-Winery-Sunday-Brunch.webp
END:VEVENT
BEGIN:VEVENT
DTSTART;TZID=America/New_York:20250405T170000
DTEND;TZID=America/New_York:20250405T200000
DTSTAMP:20260420T194012
CREATED:20241127T192709Z
LAST-MODIFIED:20250126T142101Z
UID:5556-1743872400-1743883200@baciwinery.com
SUMMARY:Jimmy Mrozek
DESCRIPTION:
URL:https://baciwinery.com/event/jimmy-mrozek-2/
CATEGORIES:Music
ATTACH;FMTTYPE=image/webp:https://baciwinery.com/wp-content/uploads/2024/11/Jimmy-Mrozek.webp
END:VEVENT
BEGIN:VEVENT
DTSTART;TZID=America/New_York:20250330T103000
DTEND;TZID=America/New_York:20250330T153000
DTSTAMP:20260420T194012
CREATED:20241210T162656Z
LAST-MODIFIED:20241210T162656Z
UID:5590-1743330600-1743348600@baciwinery.com
SUMMARY:Sunday Brunch
DESCRIPTION:
URL:https://baciwinery.com/event/sunday-brunch-17/
CATEGORIES:General
ATTACH;FMTTYPE=image/webp:https://baciwinery.com/wp-content/uploads/2024/09/Baci-Winery-Sunday-Brunch.webp
END:VEVENT
BEGIN:VEVENT
DTSTART;TZID=America/New_York:20250329T170000
DTEND;TZID=America/New_York:20250329T200000
DTSTAMP:20260420T194012
CREATED:20241113T234008Z
LAST-MODIFIED:20250201T200425Z
UID:5535-1743267600-1743278400@baciwinery.com
SUMMARY:Justo Saborit
DESCRIPTION:https://justosaborit.net
URL:https://baciwinery.com/event/justo-saborit-11/
CATEGORIES:Music
ATTACH;FMTTYPE=image/jpeg:https://baciwinery.com/wp-content/uploads/2023/05/Baci-Winery-Justo-Saborit.jpg
END:VEVENT
BEGIN:VEVENT
DTSTART;TZID=America/New_York:20250323T103000
DTEND;TZID=America/New_York:20250323T153000
DTSTAMP:20260420T194012
CREATED:20241210T162531Z
LAST-MODIFIED:20241210T162613Z
UID:5588-1742725800-1742743800@baciwinery.com
SUMMARY:Sunday Brunch
DESCRIPTION:
URL:https://baciwinery.com/event/sunday-brunch-16/
CATEGORIES:General
ATTACH;FMTTYPE=image/webp:https://baciwinery.com/wp-content/uploads/2024/09/Baci-Winery-Sunday-Brunch.webp
END:VEVENT
BEGIN:VEVENT
DTSTART;TZID=America/New_York:20250321T180000
DTEND;TZID=America/New_York:20250321T200000
DTSTAMP:20260420T194013
CREATED:20241210T163722Z
LAST-MODIFIED:20250131T191426Z
UID:5602-1742580000-1742587200@baciwinery.com
SUMMARY:Riesling Experience
DESCRIPTION:March 21\, 2025 at 6pm. Immerse yourself in the world of Riesling. Join winemaker Lauren Fiala on an educational journey and tasting through an array of Rieslings. As such a versatile grape variety\, taste through Rieslings from dry to sweet\, still to sparkling. Includes heavy hors d’oeuvres\, wine tasting notes and the opportunity to purchase an array of wines at the conclusion of the event. $50 \nRegister HERE
URL:https://baciwinery.com/event/riesling-experience/
CATEGORIES:Tasting
ATTACH;FMTTYPE=image/webp:https://baciwinery.com/wp-content/uploads/2024/12/Baci-Winery-Riesling-Experience.webp
END:VEVENT
BEGIN:VEVENT
DTSTART;TZID=America/New_York:20250316T103000
DTEND;TZID=America/New_York:20250316T153000
DTSTAMP:20260420T194013
CREATED:20241210T162449Z
LAST-MODIFIED:20241210T162449Z
UID:5586-1742121000-1742139000@baciwinery.com
SUMMARY:Sunday Brunch
DESCRIPTION:
URL:https://baciwinery.com/event/sunday-brunch-15/
CATEGORIES:General
ATTACH;FMTTYPE=image/webp:https://baciwinery.com/wp-content/uploads/2024/09/Baci-Winery-Sunday-Brunch.webp
END:VEVENT
BEGIN:VEVENT
DTSTART;TZID=America/New_York:20250315T170000
DTEND;TZID=America/New_York:20250315T200000
DTSTAMP:20260420T194013
CREATED:20240424T204243Z
LAST-MODIFIED:20250126T141923Z
UID:5352-1742058000-1742068800@baciwinery.com
SUMMARY:Pickin Rocks
DESCRIPTION:Facebook: Pickin Rocks
URL:https://baciwinery.com/event/pickin-rocks-2/
CATEGORIES:Music
ATTACH;FMTTYPE=image/jpeg:https://baciwinery.com/wp-content/uploads/2023/09/Pickin-Rocks.jpg
END:VEVENT
END:VCALENDAR