BEGIN:VCALENDAR
VERSION:2.0
PRODID:-//Baci Winery - ECPv6.15.20//NONSGML v1.0//EN
CALSCALE:GREGORIAN
METHOD:PUBLISH
X-WR-CALNAME:Baci Winery
X-ORIGINAL-URL:https://baciwinery.com
X-WR-CALDESC:Events for Baci Winery
REFRESH-INTERVAL;VALUE=DURATION:PT1H
X-Robots-Tag:noindex
X-PUBLISHED-TTL:PT1H
BEGIN:VTIMEZONE
TZID:America/New_York
BEGIN:DAYLIGHT
TZOFFSETFROM:-0500
TZOFFSETTO:-0400
TZNAME:EDT
DTSTART:20230312T070000
END:DAYLIGHT
BEGIN:STANDARD
TZOFFSETFROM:-0400
TZOFFSETTO:-0500
TZNAME:EST
DTSTART:20231105T060000
END:STANDARD
BEGIN:DAYLIGHT
TZOFFSETFROM:-0500
TZOFFSETTO:-0400
TZNAME:EDT
DTSTART:20240310T070000
END:DAYLIGHT
BEGIN:STANDARD
TZOFFSETFROM:-0400
TZOFFSETTO:-0500
TZNAME:EST
DTSTART:20241103T060000
END:STANDARD
BEGIN:DAYLIGHT
TZOFFSETFROM:-0500
TZOFFSETTO:-0400
TZNAME:EDT
DTSTART:20250309T070000
END:DAYLIGHT
BEGIN:STANDARD
TZOFFSETFROM:-0400
TZOFFSETTO:-0500
TZNAME:EST
DTSTART:20251102T060000
END:STANDARD
BEGIN:DAYLIGHT
TZOFFSETFROM:-0500
TZOFFSETTO:-0400
TZNAME:EDT
DTSTART:20260308T070000
END:DAYLIGHT
BEGIN:STANDARD
TZOFFSETFROM:-0400
TZOFFSETTO:-0500
TZNAME:EST
DTSTART:20261101T060000
END:STANDARD
END:VTIMEZONE
BEGIN:VEVENT
DTSTART;TZID=America/New_York:20250119T103000
DTEND;TZID=America/New_York:20250119T153000
DTSTAMP:20260421T073756
CREATED:20241210T161722Z
LAST-MODIFIED:20241210T161722Z
UID:5570-1737282600-1737300600@baciwinery.com
SUMMARY:Sunday Brunch
DESCRIPTION:
URL:https://baciwinery.com/event/sunday-brunch-7/
CATEGORIES:General
ATTACH;FMTTYPE=image/webp:https://baciwinery.com/wp-content/uploads/2024/09/Baci-Winery-Sunday-Brunch.webp
END:VEVENT
BEGIN:VEVENT
DTSTART;TZID=America/New_York:20250112T103000
DTEND;TZID=America/New_York:20250112T153000
DTSTAMP:20260421T073756
CREATED:20241210T161558Z
LAST-MODIFIED:20241210T161558Z
UID:5568-1736677800-1736695800@baciwinery.com
SUMMARY:Sunday Brunch
DESCRIPTION:
URL:https://baciwinery.com/event/sunday-brunch-6/
CATEGORIES:General
ATTACH;FMTTYPE=image/webp:https://baciwinery.com/wp-content/uploads/2024/09/Baci-Winery-Sunday-Brunch.webp
END:VEVENT
BEGIN:VEVENT
DTSTART;VALUE=DATE:20250111
DTEND;VALUE=DATE:20250112
DTSTAMP:20260421T073756
CREATED:20231202T002535Z
LAST-MODIFIED:20241209T163711Z
UID:5154-1736553600-1736639999@baciwinery.com
SUMMARY:Baci Winery Tour & Tasting
DESCRIPTION:Winemaker Tour & Tasting – includes access to our winemaking cellar\, tastings with the winemaker\, and a glass of wine after the tour! Approx. 45 minutes. $25 per person \nDates and times available: \n\nJanuary 11th at 12:30pm and 2:00pm\nJanuary 25th at 12:30pm and 2:00pm\n\nClick HERE to purchase tickets
URL:https://baciwinery.com/event/cellar-tour-at-baci-winery/
CATEGORIES:Tasting
ATTACH;FMTTYPE=image/webp:https://baciwinery.com/wp-content/uploads/2023/12/Baci-Winery-Cellar-Tour.webp
END:VEVENT
BEGIN:VEVENT
DTSTART;TZID=America/New_York:20250105T103000
DTEND;TZID=America/New_York:20250105T153000
DTSTAMP:20260421T073756
CREATED:20240919T191513Z
LAST-MODIFIED:20241210T161430Z
UID:5466-1736073000-1736091000@baciwinery.com
SUMMARY:Sunday Brunch
DESCRIPTION:
URL:https://baciwinery.com/event/sunday-brunch/
CATEGORIES:General
ATTACH;FMTTYPE=image/webp:https://baciwinery.com/wp-content/uploads/2024/09/Baci-Winery-Sunday-Brunch.webp
END:VEVENT
BEGIN:VEVENT
DTSTART;TZID=America/New_York:20241229T103000
DTEND;TZID=America/New_York:20241229T153000
DTSTAMP:20260421T073756
CREATED:20241114T000819Z
LAST-MODIFIED:20241114T000819Z
UID:5541-1735468200-1735486200@baciwinery.com
SUMMARY:Sunday Brunch
DESCRIPTION:
URL:https://baciwinery.com/event/sunday-brunch-5/
CATEGORIES:General
ATTACH;FMTTYPE=image/webp:https://baciwinery.com/wp-content/uploads/2024/09/Baci-Winery-Sunday-Brunch.webp
END:VEVENT
BEGIN:VEVENT
DTSTART;TZID=America/New_York:20241222T103000
DTEND;TZID=America/New_York:20241222T153000
DTSTAMP:20260421T073756
CREATED:20240919T191951Z
LAST-MODIFIED:20241114T000612Z
UID:5471-1734863400-1734881400@baciwinery.com
SUMMARY:Sunday Brunch
DESCRIPTION:
URL:https://baciwinery.com/event/sunday-brunch-3/
CATEGORIES:General
ATTACH;FMTTYPE=image/webp:https://baciwinery.com/wp-content/uploads/2024/09/Baci-Winery-Sunday-Brunch.webp
END:VEVENT
BEGIN:VEVENT
DTSTART;TZID=America/New_York:20241214T170000
DTEND;TZID=America/New_York:20241214T200000
DTSTAMP:20260421T073756
CREATED:20240408T161824Z
LAST-MODIFIED:20241030T154447Z
UID:5306-1734195600-1734206400@baciwinery.com
SUMMARY:Stan Miller
DESCRIPTION:
URL:https://baciwinery.com/event/stan-miller-6/
CATEGORIES:Music
ATTACH;FMTTYPE=image/jpeg:https://baciwinery.com/wp-content/uploads/2023/06/Stan-Miller.jpg
END:VEVENT
BEGIN:VEVENT
DTSTART;TZID=America/New_York:20241124T103000
DTEND;TZID=America/New_York:20241124T153000
DTSTAMP:20260421T073756
CREATED:20240919T192044Z
LAST-MODIFIED:20240919T192044Z
UID:5473-1732444200-1732462200@baciwinery.com
SUMMARY:Sunday Brunch
DESCRIPTION:
URL:https://baciwinery.com/event/sunday-brunch-4/
CATEGORIES:General
ATTACH;FMTTYPE=image/webp:https://baciwinery.com/wp-content/uploads/2024/09/Baci-Winery-Sunday-Brunch.webp
END:VEVENT
BEGIN:VEVENT
DTSTART;TZID=America/New_York:20241020T120000
DTEND;TZID=America/New_York:20241020T160000
DTSTAMP:20260421T073756
CREATED:20240919T190550Z
LAST-MODIFIED:20240919T190550Z
UID:5463-1729425600-1729440000@baciwinery.com
SUMMARY:Clam Bake
DESCRIPTION:Sun\, Oct 20th Clam Bake. Includes 1 dozen clams\, fire roasted half chicken\, clam chowder\, one ear corn on the cob\, cinnamon-brown sugar sweet potatoes\, clam juice\, roll & melted butter. $45 per person. \nAdditional clams will be available for purchase at the event for $15 per dozen while supplies last. Pre-sale tickets are available for 2 time slots: 12-2pm and 2-4pm. The time slot you select is for arrival time only. It does not mean you will need to leave the premise by a specific time. \nBuy tickets HERE.
URL:https://baciwinery.com/event/clam-bake/
CATEGORIES:General
ATTACH;FMTTYPE=image/webp:https://baciwinery.com/wp-content/uploads/2024/09/Baci-Winery-Clam-Bake.webp
END:VEVENT
BEGIN:VEVENT
DTSTART;TZID=America/New_York:20240922T140000
DTEND;TZID=America/New_York:20240922T170000
DTSTAMP:20260421T073756
CREATED:20230819T225759Z
LAST-MODIFIED:20240730T144743Z
UID:4696-1727013600-1727024400@baciwinery.com
SUMMARY:Phil Turk
DESCRIPTION:https://www.philturk.com
URL:https://baciwinery.com/event/phil-turk-2/
CATEGORIES:Music
ATTACH;FMTTYPE=image/jpeg:https://baciwinery.com/wp-content/uploads/2023/07/PhilTurk.jpg
END:VEVENT
BEGIN:VEVENT
DTSTART;TZID=America/New_York:20240914T170000
DTEND;TZID=America/New_York:20240914T200000
DTSTAMP:20260421T073756
CREATED:20240730T145418Z
LAST-MODIFIED:20240730T145418Z
UID:5434-1726333200-1726344000@baciwinery.com
SUMMARY:Ricky and the Rockets
DESCRIPTION:Facebook
URL:https://baciwinery.com/event/ricky-and-the-rockets/
CATEGORIES:Music
ATTACH;FMTTYPE=image/webp:https://baciwinery.com/wp-content/uploads/2024/07/Ricky-and-the-Rockets.webp
END:VEVENT
BEGIN:VEVENT
DTSTART;TZID=America/New_York:20240907T150000
DTEND;TZID=America/New_York:20240907T180000
DTSTAMP:20260421T073756
CREATED:20240327T173620Z
LAST-MODIFIED:20240904T172929Z
UID:5290-1725721200-1725732000@baciwinery.com
SUMMARY:Surfside Band
DESCRIPTION:Surfside Band
URL:https://baciwinery.com/event/surfside-band-6/
CATEGORIES:Music
ATTACH;FMTTYPE=image/jpeg:https://baciwinery.com/wp-content/uploads/2024/03/surfside-band.jpg
END:VEVENT
BEGIN:VEVENT
DTSTART;TZID=America/New_York:20240825T140000
DTEND;TZID=America/New_York:20240825T170000
DTSTAMP:20260421T073756
CREATED:20230819T225850Z
LAST-MODIFIED:20240627T143757Z
UID:4698-1724594400-1724605200@baciwinery.com
SUMMARY:Phil Turk
DESCRIPTION:https://www.philturk.com
URL:https://baciwinery.com/event/phil-turk-3/
CATEGORIES:Music
ATTACH;FMTTYPE=image/jpeg:https://baciwinery.com/wp-content/uploads/2023/07/PhilTurk.jpg
END:VEVENT
BEGIN:VEVENT
DTSTART;TZID=America/New_York:20240809T170000
DTEND;TZID=America/New_York:20240809T200000
DTSTAMP:20260421T073756
CREATED:20231103T231826Z
LAST-MODIFIED:20240627T142534Z
UID:5117-1723222800-1723233600@baciwinery.com
SUMMARY:Swingbone Quartet
DESCRIPTION:Swingbone
URL:https://baciwinery.com/event/swingbone-quartet/
CATEGORIES:Music
ATTACH;FMTTYPE=image/webp:https://baciwinery.com/wp-content/uploads/2023/11/Swingbone-Quartet.webp
END:VEVENT
BEGIN:VEVENT
DTSTART;TZID=America/New_York:20240803T170000
DTEND;TZID=America/New_York:20240803T200000
DTSTAMP:20260421T073756
CREATED:20240125T160138Z
LAST-MODIFIED:20240627T143308Z
UID:5202-1722704400-1722715200@baciwinery.com
SUMMARY:Phil Turk
DESCRIPTION:https://www.philturk.com
URL:https://baciwinery.com/event/phil-turk-4/
CATEGORIES:Music
ATTACH;FMTTYPE=image/jpeg:https://baciwinery.com/wp-content/uploads/2023/07/PhilTurk.jpg
END:VEVENT
BEGIN:VEVENT
DTSTART;TZID=America/New_York:20240802T170000
DTEND;TZID=America/New_York:20240802T200000
DTSTAMP:20260421T073756
CREATED:20240627T142042Z
LAST-MODIFIED:20240627T142055Z
UID:5395-1722618000-1722628800@baciwinery.com
SUMMARY:Justo Saborit
DESCRIPTION:https://justosaborit.net
URL:https://baciwinery.com/event/justo-saborit-8/
CATEGORIES:Music
ATTACH;FMTTYPE=image/jpeg:https://baciwinery.com/wp-content/uploads/2023/05/Baci-Winery-Justo-Saborit.jpg
END:VEVENT
BEGIN:VEVENT
DTSTART;TZID=America/New_York:20240706T170000
DTEND;TZID=America/New_York:20240706T200000
DTSTAMP:20260421T073756
CREATED:20240424T203712Z
LAST-MODIFIED:20240424T203712Z
UID:5345-1720285200-1720296000@baciwinery.com
SUMMARY:Justo Saborit
DESCRIPTION:https://justosaborit.net
URL:https://baciwinery.com/event/justo-saborit-6/
CATEGORIES:Music
ATTACH;FMTTYPE=image/jpeg:https://baciwinery.com/wp-content/uploads/2023/05/Baci-Winery-Justo-Saborit.jpg
END:VEVENT
BEGIN:VEVENT
DTSTART;TZID=America/New_York:20240623T140000
DTEND;TZID=America/New_York:20240623T170000
DTSTAMP:20260421T073756
CREATED:20240408T162658Z
LAST-MODIFIED:20240424T203539Z
UID:5311-1719151200-1719162000@baciwinery.com
SUMMARY:Justo Saborit
DESCRIPTION:https://justosaborit.net
URL:https://baciwinery.com/event/justo-saborit-5/
CATEGORIES:Music
ATTACH;FMTTYPE=image/jpeg:https://baciwinery.com/wp-content/uploads/2023/05/Baci-Winery-Justo-Saborit.jpg
END:VEVENT
BEGIN:VEVENT
DTSTART;TZID=America/New_York:20240622T170000
DTEND;TZID=America/New_York:20240622T200000
DTSTAMP:20260421T073756
CREATED:20240408T162429Z
LAST-MODIFIED:20240408T162429Z
UID:5308-1719075600-1719086400@baciwinery.com
SUMMARY:The KingPins
DESCRIPTION:Facebook
URL:https://baciwinery.com/event/the-kingpins/
CATEGORIES:Music
ATTACH;FMTTYPE=image/jpeg:https://baciwinery.com/wp-content/uploads/2024/04/KingPins.jpg
END:VEVENT
BEGIN:VEVENT
DTSTART;TZID=America/New_York:20240616T140000
DTEND;TZID=America/New_York:20240616T170000
DTSTAMP:20260421T073756
CREATED:20230922T173835Z
LAST-MODIFIED:20240424T204720Z
UID:4879-1718546400-1718557200@baciwinery.com
SUMMARY:Pickin Rocks
DESCRIPTION:Facebook: Pickin Rocks
URL:https://baciwinery.com/event/pickin-rocks/
CATEGORIES:Music
ATTACH;FMTTYPE=image/jpeg:https://baciwinery.com/wp-content/uploads/2023/09/Pickin-Rocks.jpg
END:VEVENT
BEGIN:VEVENT
DTSTART;TZID=America/New_York:20240609T140000
DTEND;TZID=America/New_York:20240609T170000
DTSTAMP:20260421T073756
CREATED:20230819T230845Z
LAST-MODIFIED:20240408T161538Z
UID:4707-1717941600-1717952400@baciwinery.com
SUMMARY:Blue Crowns
DESCRIPTION:
URL:https://baciwinery.com/event/blue-crowns-2/
CATEGORIES:Music
ATTACH;FMTTYPE=image/jpeg:https://baciwinery.com/wp-content/uploads/2023/06/Live-Music.jpg
END:VEVENT
BEGIN:VEVENT
DTSTART;TZID=America/New_York:20240607T170000
DTEND;TZID=America/New_York:20240607T200000
DTSTAMP:20260421T073756
CREATED:20240125T160329Z
LAST-MODIFIED:20240408T160723Z
UID:5204-1717779600-1717790400@baciwinery.com
SUMMARY:Justo Saborit
DESCRIPTION:https://justosaborit.net/
URL:https://baciwinery.com/event/justo-saborit-2/
CATEGORIES:Music
ATTACH;FMTTYPE=image/jpeg:https://baciwinery.com/wp-content/uploads/2023/05/Baci-Winery-Justo-Saborit.jpg
END:VEVENT
BEGIN:VEVENT
DTSTART;TZID=America/New_York:20240526T140000
DTEND;TZID=America/New_York:20240526T170000
DTSTAMP:20260421T073756
CREATED:20230819T225220Z
LAST-MODIFIED:20240313T153926Z
UID:4690-1716732000-1716742800@baciwinery.com
SUMMARY:Justo Saborit
DESCRIPTION:Home
URL:https://baciwinery.com/event/justo-saborit-3/
CATEGORIES:Music
ATTACH;FMTTYPE=image/jpeg:https://baciwinery.com/wp-content/uploads/2023/05/Baci-Winery-Justo-Saborit.jpg
END:VEVENT
BEGIN:VEVENT
DTSTART;TZID=America/New_York:20240428T140000
DTEND;TZID=America/New_York:20240428T170000
DTSTAMP:20260421T073756
CREATED:20230819T225317Z
LAST-MODIFIED:20240225T175450Z
UID:4692-1714312800-1714323600@baciwinery.com
SUMMARY:Justo Saborit
DESCRIPTION:Home
URL:https://baciwinery.com/event/justo-saborit-4/
CATEGORIES:Music
ATTACH;FMTTYPE=image/jpeg:https://baciwinery.com/wp-content/uploads/2023/05/Baci-Winery-Justo-Saborit.jpg
END:VEVENT
BEGIN:VEVENT
DTSTART;VALUE=DATE:20240420
DTEND;VALUE=DATE:20240421
DTSTAMP:20260421T073756
CREATED:20231202T002650Z
LAST-MODIFIED:20240318T171324Z
UID:5158-1713571200-1713657599@baciwinery.com
SUMMARY:Cellar Tour at Baci Winery
DESCRIPTION:Get a behind-the-scenes look at winemaking with Baci Winery. The tour\, led by winemaker Lauren Fiala\, will last approximately 45 minutes and includes a wine tasting. $15 per person. \nDates and times available: \n\nApril 20th at 12:00 pm\nApril 20th at 1:30pm\n\nClick HERE to purchase tickets
URL:https://baciwinery.com/event/cellar-tour-at-baci-winery-2/
CATEGORIES:Tasting
ATTACH;FMTTYPE=image/jpeg:https://baciwinery.com/wp-content/uploads/2023/12/Photo-Aug-09-2021-7-59-23-PM.jpg
END:VEVENT
BEGIN:VEVENT
DTSTART;TZID=America/New_York:20240406T170000
DTEND;TZID=America/New_York:20240406T200000
DTSTAMP:20260421T073756
CREATED:20240313T152843Z
LAST-MODIFIED:20240318T170031Z
UID:5265-1712422800-1712433600@baciwinery.com
SUMMARY:Heaven's Rebel
DESCRIPTION:Heaven’s Rebel: Acoustic Guitar/Vocal duo- playing classic favorite cover songs from 60’s-present.
URL:https://baciwinery.com/event/heavens-rebel/
CATEGORIES:Music
ATTACH;FMTTYPE=image/jpeg:https://baciwinery.com/wp-content/uploads/2024/03/Heavens-Rebel.jpg
END:VEVENT
BEGIN:VEVENT
DTSTART;VALUE=DATE:20240331
DTEND;VALUE=DATE:20240401
DTSTAMP:20260421T073756
CREATED:20240228T185521Z
LAST-MODIFIED:20240228T185713Z
UID:5255-1711843200-1711929599@baciwinery.com
SUMMARY:Bloody Mary Bar
DESCRIPTION:Bloody Mary Bar – Sundays in March\nStop in on Sundays during March for the Baci Winery Bloody Mary bar.\nCustomize your own bloody mary with an array of garnishes. $10 plus tax.
URL:https://baciwinery.com/event/bloody-mary-bar-5/
CATEGORIES:General
ATTACH;FMTTYPE=image/jpeg:https://baciwinery.com/wp-content/uploads/2024/02/Baci-Winery-Bloody-Mary-Bar.jpg
END:VEVENT
BEGIN:VEVENT
DTSTART;VALUE=DATE:20240324
DTEND;VALUE=DATE:20240325
DTSTAMP:20260421T073756
CREATED:20240228T185439Z
LAST-MODIFIED:20240228T185723Z
UID:5253-1711238400-1711324799@baciwinery.com
SUMMARY:Bloody Mary Bar
DESCRIPTION:Bloody Mary Bar – Sundays in March\nStop in on Sundays during March for the Baci Winery Bloody Mary bar.\nCustomize your own bloody mary with an array of garnishes. $10 plus tax.
URL:https://baciwinery.com/event/bloody-mary-bar-4/
CATEGORIES:General
ATTACH;FMTTYPE=image/jpeg:https://baciwinery.com/wp-content/uploads/2024/02/Baci-Winery-Bloody-Mary-Bar.jpg
END:VEVENT
BEGIN:VEVENT
DTSTART;TZID=America/New_York:20240317T140000
DTEND;TZID=America/New_York:20240317T170000
DTSTAMP:20260421T073756
CREATED:20230519T180017Z
LAST-MODIFIED:20240212T170149Z
UID:4421-1710684000-1710694800@baciwinery.com
SUMMARY:Ronnie Clinton
DESCRIPTION:www.ronnieclinton.com
URL:https://baciwinery.com/event/ronnie-clinton/
CATEGORIES:Music
ATTACH;FMTTYPE=image/jpeg:https://baciwinery.com/wp-content/uploads/2023/05/Ronnie-Clinton.jpg
END:VEVENT
BEGIN:VEVENT
DTSTART;VALUE=DATE:20240317
DTEND;VALUE=DATE:20240318
DTSTAMP:20260421T073756
CREATED:20240228T185355Z
LAST-MODIFIED:20240228T185734Z
UID:5251-1710633600-1710719999@baciwinery.com
SUMMARY:Bloody Mary Bar
DESCRIPTION:Bloody Mary Bar – Sundays in March\nStop in on Sundays during March for the Baci Winery Bloody Mary bar.\nCustomize your own bloody mary with an array of garnishes. $10 plus tax.
URL:https://baciwinery.com/event/bloody-mary-bar-3/
CATEGORIES:General
ATTACH;FMTTYPE=image/jpeg:https://baciwinery.com/wp-content/uploads/2024/02/Baci-Winery-Bloody-Mary-Bar.jpg
END:VEVENT
END:VCALENDAR