BEGIN:VCALENDAR
VERSION:2.0
PRODID:-//Baci Winery - ECPv6.15.20//NONSGML v1.0//EN
CALSCALE:GREGORIAN
METHOD:PUBLISH
X-WR-CALNAME:Baci Winery
X-ORIGINAL-URL:https://baciwinery.com
X-WR-CALDESC:Events for Baci Winery
REFRESH-INTERVAL;VALUE=DURATION:PT1H
X-Robots-Tag:noindex
X-PUBLISHED-TTL:PT1H
BEGIN:VTIMEZONE
TZID:America/New_York
BEGIN:DAYLIGHT
TZOFFSETFROM:-0500
TZOFFSETTO:-0400
TZNAME:EDT
DTSTART:20230312T070000
END:DAYLIGHT
BEGIN:STANDARD
TZOFFSETFROM:-0400
TZOFFSETTO:-0500
TZNAME:EST
DTSTART:20231105T060000
END:STANDARD
BEGIN:DAYLIGHT
TZOFFSETFROM:-0500
TZOFFSETTO:-0400
TZNAME:EDT
DTSTART:20240310T070000
END:DAYLIGHT
BEGIN:STANDARD
TZOFFSETFROM:-0400
TZOFFSETTO:-0500
TZNAME:EST
DTSTART:20241103T060000
END:STANDARD
BEGIN:DAYLIGHT
TZOFFSETFROM:-0500
TZOFFSETTO:-0400
TZNAME:EDT
DTSTART:20250309T070000
END:DAYLIGHT
BEGIN:STANDARD
TZOFFSETFROM:-0400
TZOFFSETTO:-0500
TZNAME:EST
DTSTART:20251102T060000
END:STANDARD
END:VTIMEZONE
BEGIN:VEVENT
DTSTART;VALUE=DATE:20240301
DTEND;VALUE=DATE:20240401
DTSTAMP:20260421T101311
CREATED:20240214T184544Z
LAST-MODIFIED:20240214T184544Z
UID:5235-1709251200-1711929599@baciwinery.com
SUMMARY:Ice Wine Trail - March 2024
DESCRIPTION:Stop in to Baci Winery during normal business hours in the month of March to purchase tastings or bottles of St. Joseph and Baci Winery Ice Wine. Three different Ice Wines will be poured while supplies last. 2018 St. Joseph Vidal Blanc Ice Wine\, 2019 St. Joseph Cabernet Franc Ice Wine\, and 2019 Baci Winery Vidal Blanc Ice Wine.
URL:https://baciwinery.com/event/ice-wine-trail-march-2024/
CATEGORIES:Tasting
ATTACH;FMTTYPE=image/jpeg:https://baciwinery.com/wp-content/uploads/2024/02/Baci-Ice-Wine-Month-2024.jpg
END:VEVENT
END:VCALENDAR