BEGIN:VCALENDAR
VERSION:2.0
PRODID:-//Baci Winery - ECPv6.15.20//NONSGML v1.0//EN
CALSCALE:GREGORIAN
METHOD:PUBLISH
X-ORIGINAL-URL:https://baciwinery.com
X-WR-CALDESC:Events for Baci Winery
REFRESH-INTERVAL;VALUE=DURATION:PT1H
X-Robots-Tag:noindex
X-PUBLISHED-TTL:PT1H
BEGIN:VTIMEZONE
TZID:America/New_York
BEGIN:DAYLIGHT
TZOFFSETFROM:-0500
TZOFFSETTO:-0400
TZNAME:EDT
DTSTART:20220313T070000
END:DAYLIGHT
BEGIN:STANDARD
TZOFFSETFROM:-0400
TZOFFSETTO:-0500
TZNAME:EST
DTSTART:20221106T060000
END:STANDARD
BEGIN:DAYLIGHT
TZOFFSETFROM:-0500
TZOFFSETTO:-0400
TZNAME:EDT
DTSTART:20230312T070000
END:DAYLIGHT
BEGIN:STANDARD
TZOFFSETFROM:-0400
TZOFFSETTO:-0500
TZNAME:EST
DTSTART:20231105T060000
END:STANDARD
BEGIN:DAYLIGHT
TZOFFSETFROM:-0500
TZOFFSETTO:-0400
TZNAME:EDT
DTSTART:20240310T070000
END:DAYLIGHT
BEGIN:STANDARD
TZOFFSETFROM:-0400
TZOFFSETTO:-0500
TZNAME:EST
DTSTART:20241103T060000
END:STANDARD
END:VTIMEZONE
BEGIN:VEVENT
DTSTART;VALUE=DATE:20231115
DTEND;VALUE=DATE:20231117
DTSTAMP:20260421T182610
CREATED:20230922T175403Z
LAST-MODIFIED:20230922T175403Z
UID:4888-1700074800-1700161199@baciwinery.com
SUMMARY:Beaujolais Nouveau Day
DESCRIPTION:Beaujolais Nouveau Day \nIn France\, Beaujolais Nouveau Day is the third Thursday in November. While Beaujolais will be releasing their newest vintage\, we will be releasing our 2021 vintage here at Baci Winery. Traditionally\, Gamay Noir has been associated with the American Holiday of Thanksgiving\, so grab yourself a bottle of this wine to pair with your cranberry sauce this holiday season! Limited quantities available\, only 34 cases were produced. Available for purchase at Baci Winery during normal business hours until sold out.
URL:https://baciwinery.com/event/beaujolais-nouveau-day/
CATEGORIES:Tasting
ATTACH;FMTTYPE=image/jpeg:https://baciwinery.com/wp-content/uploads/2023/09/Baci-Winery-Beaujolais-Nouveau-Day.jpg
END:VEVENT
END:VCALENDAR