BEGIN:VCALENDAR
VERSION:2.0
PRODID:-//Baci Winery - ECPv6.15.20//NONSGML v1.0//EN
CALSCALE:GREGORIAN
METHOD:PUBLISH
X-WR-CALNAME:Baci Winery
X-ORIGINAL-URL:https://baciwinery.com
X-WR-CALDESC:Events for Baci Winery
REFRESH-INTERVAL;VALUE=DURATION:PT1H
X-Robots-Tag:noindex
X-PUBLISHED-TTL:PT1H
BEGIN:VTIMEZONE
TZID:America/New_York
BEGIN:DAYLIGHT
TZOFFSETFROM:-0500
TZOFFSETTO:-0400
TZNAME:EDT
DTSTART:20240310T070000
END:DAYLIGHT
BEGIN:STANDARD
TZOFFSETFROM:-0400
TZOFFSETTO:-0500
TZNAME:EST
DTSTART:20241103T060000
END:STANDARD
BEGIN:DAYLIGHT
TZOFFSETFROM:-0500
TZOFFSETTO:-0400
TZNAME:EDT
DTSTART:20250309T070000
END:DAYLIGHT
BEGIN:STANDARD
TZOFFSETFROM:-0400
TZOFFSETTO:-0500
TZNAME:EST
DTSTART:20251102T060000
END:STANDARD
BEGIN:DAYLIGHT
TZOFFSETFROM:-0500
TZOFFSETTO:-0400
TZNAME:EDT
DTSTART:20260308T070000
END:DAYLIGHT
BEGIN:STANDARD
TZOFFSETFROM:-0400
TZOFFSETTO:-0500
TZNAME:EST
DTSTART:20261101T060000
END:STANDARD
END:VTIMEZONE
BEGIN:VEVENT
DTSTART;TZID=America/New_York:20250913T113000
DTEND;TZID=America/New_York:20250913T123000
DTSTAMP:20260420T091913
CREATED:20250826T125725Z
LAST-MODIFIED:20250826T125725Z
UID:6013-1757763000-1757766600@baciwinery.com
SUMMARY:Harvest Season Walking Tour
DESCRIPTION:Enjoy this walking tour of our vineyards and learn about the grapes we are growing. You’ll get to taste the fruit right from the vines next to a bottle of the wine made from those types of grapes from a previous vintage. An educational and tasty experience! \n$40 \nClick Here to Get Your Tickets  \nDue to the uneven nature of the ground\, please wear appropriate outdoor shoes for this event. 21+ over only. In the event of inclement weather\, the event will be moved out of the vineyard and the educational grape and wine tasting will be conducted under cover.
URL:https://baciwinery.com/event/harvest-season-walking-tour/
CATEGORIES:Tasting
ATTACH;FMTTYPE=image/jpeg:https://baciwinery.com/wp-content/uploads/2025/08/Its-Harvest-Season-at-Baci-Winery-Event-Photo.jpg
END:VEVENT
END:VCALENDAR