BEGIN:VCALENDAR
VERSION:2.0
PRODID:-//Baci Winery - ECPv6.15.20//NONSGML v1.0//EN
CALSCALE:GREGORIAN
METHOD:PUBLISH
X-WR-CALNAME:Baci Winery
X-ORIGINAL-URL:https://baciwinery.com
X-WR-CALDESC:Events for Baci Winery
REFRESH-INTERVAL;VALUE=DURATION:PT1H
X-Robots-Tag:noindex
X-PUBLISHED-TTL:PT1H
BEGIN:VTIMEZONE
TZID:America/New_York
BEGIN:DAYLIGHT
TZOFFSETFROM:-0500
TZOFFSETTO:-0400
TZNAME:EDT
DTSTART:20250309T070000
END:DAYLIGHT
BEGIN:STANDARD
TZOFFSETFROM:-0400
TZOFFSETTO:-0500
TZNAME:EST
DTSTART:20251102T060000
END:STANDARD
BEGIN:DAYLIGHT
TZOFFSETFROM:-0500
TZOFFSETTO:-0400
TZNAME:EDT
DTSTART:20260308T070000
END:DAYLIGHT
BEGIN:STANDARD
TZOFFSETFROM:-0400
TZOFFSETTO:-0500
TZNAME:EST
DTSTART:20261101T060000
END:STANDARD
BEGIN:DAYLIGHT
TZOFFSETFROM:-0500
TZOFFSETTO:-0400
TZNAME:EDT
DTSTART:20270314T070000
END:DAYLIGHT
BEGIN:STANDARD
TZOFFSETFROM:-0400
TZOFFSETTO:-0500
TZNAME:EST
DTSTART:20271107T060000
END:STANDARD
END:VTIMEZONE
BEGIN:VEVENT
DTSTART;TZID=America/New_York:20260531T130000
DTEND;TZID=America/New_York:20260531T160000
DTSTAMP:20260420T080245
CREATED:20250126T142731Z
LAST-MODIFIED:20260322T223308Z
UID:5637-1780232400-1780243200@baciwinery.com
SUMMARY:Al Bucco
DESCRIPTION:Albert Bucco is a versatile singer and entertainer based in Willoughby\, Ohio.
URL:https://baciwinery.com/event/al-bucco/
CATEGORIES:Music
ATTACH;FMTTYPE=image/webp:https://baciwinery.com/wp-content/uploads/2025/01/Al-Bucco.webp
END:VEVENT
END:VCALENDAR