BEGIN:VCALENDAR
VERSION:2.0
PRODID:-//Baci Winery - ECPv6.15.20//NONSGML v1.0//EN
CALSCALE:GREGORIAN
METHOD:PUBLISH
X-WR-CALNAME:Baci Winery
X-ORIGINAL-URL:https://baciwinery.com
X-WR-CALDESC:Events for Baci Winery
REFRESH-INTERVAL;VALUE=DURATION:PT1H
X-Robots-Tag:noindex
X-PUBLISHED-TTL:PT1H
BEGIN:VTIMEZONE
TZID:America/New_York
BEGIN:DAYLIGHT
TZOFFSETFROM:-0500
TZOFFSETTO:-0400
TZNAME:EDT
DTSTART:20250309T070000
END:DAYLIGHT
BEGIN:STANDARD
TZOFFSETFROM:-0400
TZOFFSETTO:-0500
TZNAME:EST
DTSTART:20251102T060000
END:STANDARD
BEGIN:DAYLIGHT
TZOFFSETFROM:-0500
TZOFFSETTO:-0400
TZNAME:EDT
DTSTART:20260308T070000
END:DAYLIGHT
BEGIN:STANDARD
TZOFFSETFROM:-0400
TZOFFSETTO:-0500
TZNAME:EST
DTSTART:20261101T060000
END:STANDARD
BEGIN:DAYLIGHT
TZOFFSETFROM:-0500
TZOFFSETTO:-0400
TZNAME:EDT
DTSTART:20270314T070000
END:DAYLIGHT
BEGIN:STANDARD
TZOFFSETFROM:-0400
TZOFFSETTO:-0500
TZNAME:EST
DTSTART:20271107T060000
END:STANDARD
END:VTIMEZONE
BEGIN:VEVENT
DTSTART;TZID=America/New_York:20260321T170000
DTEND;TZID=America/New_York:20260321T200000
DTSTAMP:20260420T082254
CREATED:20250411T125934Z
LAST-MODIFIED:20260320T010550Z
UID:5735-1774112400-1774123200@baciwinery.com
SUMMARY:Austin Hamilton
DESCRIPTION:Austin Hamilton is a Northeast Ohio–based singer-songwriter known for his soulful voice\, gravelly rasp\, and deep blues-influenced sound. His acoustic performances go beyond the typical solo set\, as he delivers a full\, engaging experience—playing guitar while incorporating kick drum and tambourine to create a rich\, layered sound. \nBlending elements of folk\, country\, and Americana\, Austin’s music is rooted in storytelling and raw authenticity. Influenced by artists like Tyler Childers\, Zach Bryan\, and Chris Stapleton\, he brings an honest\, down-to-earth energy that resonates with audiences. \nA recognized name in the regional music scene\, Austin has earned accolades including a Cleveland Music Award for Best Folk Band (2024) and a nomination for Best Country Artist. His performances are intimate\, dynamic\, and perfectly suited for a relaxed night of live music.
URL:https://baciwinery.com/event/austin-hamilton/
CATEGORIES:Music
ATTACH;FMTTYPE=image/webp:https://baciwinery.com/wp-content/uploads/2025/04/Baci-Winery-Austin-Hamilton.webp
END:VEVENT
END:VCALENDAR