BEGIN:VCALENDAR
VERSION:2.0
PRODID:-//Baci Winery - ECPv6.15.20//NONSGML v1.0//EN
CALSCALE:GREGORIAN
METHOD:PUBLISH
X-ORIGINAL-URL:https://baciwinery.com
X-WR-CALDESC:Events for Baci Winery
REFRESH-INTERVAL;VALUE=DURATION:PT1H
X-Robots-Tag:noindex
X-PUBLISHED-TTL:PT1H
BEGIN:VTIMEZONE
TZID:America/New_York
BEGIN:DAYLIGHT
TZOFFSETFROM:-0500
TZOFFSETTO:-0400
TZNAME:EDT
DTSTART:20240310T070000
END:DAYLIGHT
BEGIN:STANDARD
TZOFFSETFROM:-0400
TZOFFSETTO:-0500
TZNAME:EST
DTSTART:20241103T060000
END:STANDARD
BEGIN:DAYLIGHT
TZOFFSETFROM:-0500
TZOFFSETTO:-0400
TZNAME:EDT
DTSTART:20250309T070000
END:DAYLIGHT
BEGIN:STANDARD
TZOFFSETFROM:-0400
TZOFFSETTO:-0500
TZNAME:EST
DTSTART:20251102T060000
END:STANDARD
BEGIN:DAYLIGHT
TZOFFSETFROM:-0500
TZOFFSETTO:-0400
TZNAME:EDT
DTSTART:20260308T070000
END:DAYLIGHT
BEGIN:STANDARD
TZOFFSETFROM:-0400
TZOFFSETTO:-0500
TZNAME:EST
DTSTART:20261101T060000
END:STANDARD
END:VTIMEZONE
BEGIN:VEVENT
DTSTART;TZID=America/New_York:20250824T110000
DTEND;TZID=America/New_York:20250824T120000
DTSTAMP:20260419T212723
CREATED:20240806T162400Z
LAST-MODIFIED:20250711T014757Z
UID:5438-1756033200-1756036800@baciwinery.com
SUMMARY:Pilates at the Vineyard
DESCRIPTION:Daniela\, owner of Barre2Pilates LLC in Mentor\, Ohio is a master instructor of 23 years. Her barre and mat Pilates program is low-impact yet challenging. You will sculpt\, stretch and strengthen in this 50 minute class! All fitness levels welcome. Please bring a mat\, towel and water. Price includes a glass of wine or non alcoholic beverage after the class. \nClick HERE to register.
URL:https://baciwinery.com/event/pilates-at-the-vineyard/
CATEGORIES:General
ATTACH;FMTTYPE=image/jpeg:https://baciwinery.com/wp-content/uploads/2025/05/Baci-Winery-Pilates-2025.jpg
END:VEVENT
END:VCALENDAR