BEGIN:VCALENDAR
VERSION:2.0
PRODID:-//Baci Winery - ECPv6.15.20//NONSGML v1.0//EN
CALSCALE:GREGORIAN
METHOD:PUBLISH
X-WR-CALNAME:Baci Winery
X-ORIGINAL-URL:https://baciwinery.com
X-WR-CALDESC:Events for Baci Winery
REFRESH-INTERVAL;VALUE=DURATION:PT1H
X-Robots-Tag:noindex
X-PUBLISHED-TTL:PT1H
BEGIN:VTIMEZONE
TZID:America/New_York
BEGIN:DAYLIGHT
TZOFFSETFROM:-0500
TZOFFSETTO:-0400
TZNAME:EDT
DTSTART:20240310T070000
END:DAYLIGHT
BEGIN:STANDARD
TZOFFSETFROM:-0400
TZOFFSETTO:-0500
TZNAME:EST
DTSTART:20241103T060000
END:STANDARD
BEGIN:DAYLIGHT
TZOFFSETFROM:-0500
TZOFFSETTO:-0400
TZNAME:EDT
DTSTART:20250309T070000
END:DAYLIGHT
BEGIN:STANDARD
TZOFFSETFROM:-0400
TZOFFSETTO:-0500
TZNAME:EST
DTSTART:20251102T060000
END:STANDARD
BEGIN:DAYLIGHT
TZOFFSETFROM:-0500
TZOFFSETTO:-0400
TZNAME:EDT
DTSTART:20260308T070000
END:DAYLIGHT
BEGIN:STANDARD
TZOFFSETFROM:-0400
TZOFFSETTO:-0500
TZNAME:EST
DTSTART:20261101T060000
END:STANDARD
END:VTIMEZONE
BEGIN:VEVENT
DTSTART;VALUE=DATE:20250810
DTEND;VALUE=DATE:20250811
DTSTAMP:20260420T181327
CREATED:20250424T040808Z
LAST-MODIFIED:20250810T230751Z
UID:5831-1754784000-1754870399@baciwinery.com
SUMMARY:Island Style Pig Roast and Luau
DESCRIPTION:Join us Sunday Aug 10 for a pig roast and Latin style luau! In addition to our regular menu\, we will offer a dinner consisting of Roasted Pig\, Hawaiian Rolls\, Tostones\, w Adobo Spice & Garlic Aioli\, Roasted Street Corn Salad\, Chilies\, Cilantro\, Lime\, Cojita Cheese\, Chili Aioli\, and Pasta Salad. \nThis is available for purchase upon your arrival until we are sold out. See you Sunday!
URL:https://baciwinery.com/event/island-style-pig-roast-and-luau/
CATEGORIES:General
ATTACH;FMTTYPE=image/jpeg:https://baciwinery.com/wp-content/uploads/2025/04/Luau-Party.jpg
END:VEVENT
BEGIN:VEVENT
DTSTART;TZID=America/New_York:20250810T140000
DTEND;TZID=America/New_York:20250810T170000
DTSTAMP:20260420T181327
CREATED:20250424T031209Z
LAST-MODIFIED:20250724T010759Z
UID:5808-1754834400-1754845200@baciwinery.com
SUMMARY:Justo and Havana Nights
DESCRIPTION:Cuban-born\, Cleveland-based guitarist Justo Saborit and the Havana Nights. Blending Latin soul\, jazz\, blues & R&B into a sound that’s uniquely their own. \nJusto Saborit
URL:https://baciwinery.com/event/justo-saborit-13/
CATEGORIES:Music
ATTACH;FMTTYPE=image/jpeg:https://baciwinery.com/wp-content/uploads/2025/04/Justo-and-Havana-Nights.jpg
END:VEVENT
END:VCALENDAR